BEGIN:VCALENDAR
VERSION:2.0
PRODID:-//HANEN - ECPv4.3.2//NONSGML v1.0//EN
CALSCALE:GREGORIAN
METHOD:PUBLISH
X-WR-CALNAME:HANEN
X-ORIGINAL-URL:https://medlem.hanen.no
X-WR-CALDESC:Events for HANEN
BEGIN:VEVENT
DTSTART;TZID=Europe/Oslo:20160723T100000
DTEND;TZID=Europe/Oslo:20160724T170000
DTSTAMP:20260421T085846
CREATED:20160531T112600Z
LAST-MODIFIED:20160531T112600Z
UID:15216-1469268000-1469379600@medlem.hanen.no
SUMMARY:Kurs i låtskriving\, song og sceneformidling med  Veslemøy Solberg og Sven Ohrvik
DESCRIPTION:\n\n\n\n\n\nKurset passar både for deg som er fersk i faget\, og for deg som har halde på med låtskriving og sceneformidling ei stund. Fokus vil ligge på tekstskriving\, skrivelyst\, skriveteknikkar og form\, på kreativitet og idéskaping – og på formidling av tekstar og musikk. Korleis kan du få fortalt dei musikalske historiene dine på best muleg måte? Har du lyst\, får du sjansen til å stå på scenen sjølv og få tilbakemelding på songane dine.\n\nPris (inkludert mat begge dagane): kr 1500\,-\n\nOm du treng overnatting\, kan du leige rom på garden.\n\nPåmelding innan 17. juni\n\nMer informasjon og påmelding her\n\n \n\n \n\n \n\n\n\n\n\n
URL:https://medlem.hanen.no/arrangement/kurs-i-latskriving-song-og-sceneformidling-med-veslemoy-solberg-og-sven-ohrvik/
LOCATION:Kornstadkleiva 13\, AVERØY\, 6530\, Norge
GEO:63.07963;7.649017
X-APPLE-STRUCTURED-LOCATION;VALUE=URI;X-ADDRESS=Kornstadkleiva 13 AVERØY 6530 Norge;X-APPLE-RADIUS=500;X-TITLE=Kornstadkleiva 13:geo:7.649017,63.07963
CATEGORIES:Møre og Romsdal
ATTACH;FMTTYPE=image/jpeg:https://medlem.hanen.no/wp-content/uploads/2016/05/DSC_0345.jpg
ORGANIZER;CN="Hansgarden%20Kornstad":MAILTO:merete.b.aae@gmail.com
END:VEVENT
END:VCALENDAR