BEGIN:VCALENDAR
VERSION:2.0
PRODID:-//HANEN - ECPv4.3.2//NONSGML v1.0//EN
CALSCALE:GREGORIAN
METHOD:PUBLISH
X-WR-CALNAME:HANEN
X-ORIGINAL-URL:https://medlem.hanen.no
X-WR-CALDESC:Events for HANEN
BEGIN:VEVENT
DTSTART;TZID=Europe/Oslo:20160915T113000
DTEND;TZID=Europe/Oslo:20160916T140000
DTSTAMP:20260421T083935
CREATED:20160831T112324Z
LAST-MODIFIED:20160831T112324Z
UID:16724-1473939000-1474034400@medlem.hanen.no
SUMMARY:Kulturminnedager i Nes
DESCRIPTION:Fra lunsj til lunsj på gårdene Veset og Huser i Fenstad\, Nes i Akershus. Arrangører er Kulturminnebøndene\, Raumnes Historielag og Fortidsminneforeningen Romeriket.\n\nPåmelding til veset@online.no innen torsdag 8. september\n\n \n\nLes mer
URL:https://medlem.hanen.no/arrangement/kulturminnedager-i-nes/
LOCATION:Norge
CATEGORIES:Akershus
ATTACH;FMTTYPE=image/jpeg:https://medlem.hanen.no/wp-content/uploads/2016/08/Skjermbilde-5.jpg
END:VEVENT
END:VCALENDAR