BEGIN:VCALENDAR
VERSION:2.0
PRODID:-//HANEN - ECPv4.3.2//NONSGML v1.0//EN
CALSCALE:GREGORIAN
METHOD:PUBLISH
X-WR-CALNAME:HANEN
X-ORIGINAL-URL:https://medlem.hanen.no
X-WR-CALDESC:Events for HANEN
BEGIN:VEVENT
DTSTART;TZID=Europe/Oslo:20160823T140000
DTEND;TZID=Europe/Oslo:20160911T120000
DTSTAMP:20260421T095919
CREATED:20160823T114910Z
LAST-MODIFIED:20160823T123204Z
UID:16657-1471960800-1473595200@medlem.hanen.no
SUMMARY:Konsert- mat- og vinhelg på Torsetlia 9.-11. september
DESCRIPTION:Torsetlia arrangerer for første gang en mat-\, konsert- og vinhelg.  I år er det Tor Endresen som skal holde konserten.\n\nKonserten holdes fredag 9. september kl. 21.00.\n\nLørdag 10. september kl. 19.00 arrangeres koldtbord som inneholder vår spennende Fjell-Tapas buffet.\n\nAlternativer:\nKonsert inkl. aperitif kr. 300\,-\nKoldtbord\, konsert & aperitif kr. 750\,-\nWeekend inkl. halvpensjon\, konsert og aperitif kr. 2400\,-\n(alle priser er per person)\n\nPåmelding til:\npost@torsetlia.no\nTlf.: 32 74 36 81 
URL:https://medlem.hanen.no/arrangement/konsert-og-mathelg-torsetlia/
LOCATION:Dagalifjell\, Uvdal\, Buskerud\, 3632\, Norge
GEO:60.2555777;7.8809476
X-APPLE-STRUCTURED-LOCATION;VALUE=URI;X-ADDRESS=Dagalifjell Uvdal Buskerud 3632 Norge;X-APPLE-RADIUS=500;X-TITLE=Dagalifjell:geo:7.8809476,60.2555777
CATEGORIES:Buskerud
ATTACH;FMTTYPE=image/jpeg:https://medlem.hanen.no/wp-content/uploads/2016/08/Tor-Endresen-lite.jpg
END:VEVENT
END:VCALENDAR