BEGIN:VCALENDAR
VERSION:2.0
PRODID:-//HANEN - ECPv4.3.2//NONSGML v1.0//EN
CALSCALE:GREGORIAN
METHOD:PUBLISH
X-WR-CALNAME:HANEN
X-ORIGINAL-URL:https://medlem.hanen.no
X-WR-CALDESC:Events for HANEN
BEGIN:VEVENT
DTSTART;TZID=Europe/Oslo:20170527T180000
DTEND;TZID=Europe/Oslo:20170527T200000
DTSTAMP:20260419T130126
CREATED:20170504T072416Z
LAST-MODIFIED:20170504T072416Z
UID:18977-1495908000-1495915200@medlem.hanen.no
SUMMARY:Konsert med Steen-Vidar Larsen!
DESCRIPTION:Så heldige vi er! Steen-Vidar Larsen velger Eplegården til vårens hyggeligste en-manns-konsert.\n\nPå repertoaret står lyriske\, vakre\, humoristiske og barnlige viser.\nDet blir tekster og melodier av blant andre Lillebjørn Nilsen\, Ingvar Hovland\, Erik Bye\, Alf Cranner\, Evert Taube\, Cornelis Vreeswijk\, Hans Børli\, Harald Sverdrup og Steen-Vidar.\nOg kanskje får vi til litt allsang…\n\nBegrenset antall plasser.\n\nLes mer her
URL:https://medlem.hanen.no/arrangement/konsert-med-steen-vidar-larsen/
LOCATION:Børsandveien 1\, SÆTRE\, Norge\, 3475\, Norge
GEO:59.6498675;10.597265
X-APPLE-STRUCTURED-LOCATION;VALUE=URI;X-ADDRESS=Børsandveien 1 SÆTRE Norge 3475 Norge;X-APPLE-RADIUS=500;X-TITLE=Børsandveien 1:geo:10.597265,59.6498675
CATEGORIES:Buskerud
ATTACH;FMTTYPE=image/gif:https://medlem.hanen.no/wp-content/uploads/2017/05/Eplegården.gif
ORGANIZER;CN="Epleg%C3%A5rden":MAILTO:tor@eple.no
END:VEVENT
END:VCALENDAR