BEGIN:VCALENDAR
VERSION:2.0
PRODID:-//HANEN - ECPv4.3.2//NONSGML v1.0//EN
CALSCALE:GREGORIAN
METHOD:PUBLISH
X-WR-CALNAME:HANEN
X-ORIGINAL-URL:https://medlem.hanen.no
X-WR-CALDESC:Events for HANEN
BEGIN:VEVENT
DTSTART;TZID=Europe/Oslo:20150707T190000
DTEND;TZID=Europe/Oslo:20150707T230000
DTSTAMP:20260420T101026
CREATED:20150617T123239Z
LAST-MODIFIED:20150617T123640Z
UID:12486-1436295600-1436310000@medlem.hanen.no
SUMMARY:Konsert med Sondre Lerche med band
DESCRIPTION:Velkommen til konsert i Borggården!\n\nBestill billetter her
URL:https://medlem.hanen.no/arrangement/konsert-med-sondre-lerche-med-band/
LOCATION:Postboks 235\, Rosendal\, 5486 
CATEGORIES:Hordaland
ATTACH;FMTTYPE=image/jpeg:https://medlem.hanen.no/wp-content/uploads/2015/06/SondreLerche.jpg
END:VEVENT
END:VCALENDAR