BEGIN:VCALENDAR
VERSION:2.0
PRODID:-//HANEN - ECPv4.3.2//NONSGML v1.0//EN
CALSCALE:GREGORIAN
METHOD:PUBLISH
X-WR-CALNAME:HANEN
X-ORIGINAL-URL:https://medlem.hanen.no
X-WR-CALDESC:Events for HANEN
BEGIN:VEVENT
DTSTART;TZID=Europe/Oslo:20150327T190000
DTEND;TZID=Europe/Oslo:20150327T190000
DTSTAMP:20260420T121431
CREATED:20150217T100523Z
LAST-MODIFIED:20150217T100646Z
UID:2271-1427482800-1427482800@medlem.hanen.no
SUMMARY:Konsert med Øyvind Elgenes
DESCRIPTION:Stemmen bak "Dance With a Stranger"\, Øivind "Elg" Elgenes\, kommer til Eikhaugen Gjestegard fredag 27. mars!  Det blir intimkonsert på "Høyloftet" med påfølgende servering av lokal gourmet på "Påske-planke"!  Dørene åpner kl. 19:00 og konsertstart kl. 20:00. Aldersgrense: 20 år. Billettpris: 850 kroner.\nBillettbestilling: post@eikhaugen.no / mob: 97 00 94 03.\nVelkommen til en konsert som meget vel kan blåse hatten av oss!
URL:https://medlem.hanen.no/arrangement/konsert-med-oyvind-elgenes/
LOCATION:Vinnessundet 20\, Fusa\, 5641 
GEO:60.2031844;5.6240278
X-APPLE-STRUCTURED-LOCATION;VALUE=URI;X-ADDRESS=Vinnessundet 20 Fusa 5641;X-APPLE-RADIUS=500;X-TITLE=Vinnessundet 20:geo:5.6240278,60.2031844
CATEGORIES:Hordaland
ATTACH;FMTTYPE=image/jpeg:https://medlem.hanen.no/wp-content/uploads/2015/02/10995428_809406075806530_724539908344899067_n.jpg
ORGANIZER;CN="Eikhaugen%20Gjestegard":MAILTO:post@eikhaugen.no
END:VEVENT
END:VCALENDAR