BEGIN:VCALENDAR
VERSION:2.0
PRODID:-//HANEN - ECPv4.3.2//NONSGML v1.0//EN
CALSCALE:GREGORIAN
METHOD:PUBLISH
X-WR-CALNAME:HANEN
X-ORIGINAL-URL:https://medlem.hanen.no
X-WR-CALDESC:Events for HANEN
BEGIN:VEVENT
DTSTART;TZID=Europe/Oslo:20150529T190000
DTEND;TZID=Europe/Oslo:20150529T230000
DTSTAMP:20260420T084042
CREATED:20150415T102321Z
LAST-MODIFIED:20150415T102321Z
UID:2431-1432926000-1432940400@medlem.hanen.no
SUMMARY:Konsert med Hot Club de Norvège
DESCRIPTION:Hot Club de Norvège er et av Norges hotteste liveband\, og er berømte for sin smittende spilleglede og virtuose strengemusikk. De er kjent for de fleste fra radio/TV\, og har vært kontinuerlig på veien siden 70-tallet. De regnes internasjonalt blant de fremste i sin stilart. Med utgangspunkt i musikken til den legendariske sigøynergitaristen Django Reinhardt\, har de i dag kommet frem til sitt eget uttrykk\, og et unikt sound. De turnerer over hele kloden\, og har samarbeidet med alle de store innen genren\, fra Stéphane Grappelli til Jimmy Rosenberg\, foruten artister som Vertavokvartetten\, Nigel Kennedy\, Angelo Debarre og Ulf Wakenius.Hot Club de Norvège har gitt ut over 30 kritikerroste plater (samtlige tilgjengelig på iTunes\, Spotify\, Wimp\, osv)\, og feirer i år sitt 35-års jubileum med turnéer i inn- og utland\, og lanserer sitt ferskeste album\, CAUTION HOT\, innspilt sammen med fire av Djangomusikkens største utøvere: Adrien Moignard (gitar)\, Florin Niculescu (fiolin)\, Ben Powell (fiolin) og Gonzalo Bergara (gitar).Dørene åpner kl. 19:00Inngang kr. 250\,-Billetter kjøpes på Solheim\, mob: 95 52 37 06Varmt velkommen til konsert!
URL:https://medlem.hanen.no/arrangement/konsert-med-hot-club-de-norvege/
LOCATION:Osloveien 12\, Røros\, Sør-Trøndelag\, 7374\, Norge
GEO:62.5723293;11.387913
X-APPLE-STRUCTURED-LOCATION;VALUE=URI;X-ADDRESS=Osloveien 12 Røros Sør-Trøndelag 7374 Norge;X-APPLE-RADIUS=500;X-TITLE=Osloveien 12:geo:11.387913,62.5723293
CATEGORIES:Sør-Trøndelag
ATTACH;FMTTYPE=image/jpeg:https://medlem.hanen.no/wp-content/uploads/2015/04/11127235_825963917480892_5446331356422085975_n.jpg
ORGANIZER;CN="Solheim%20Pensjonat":MAILTO:post@solheimpensjonat.no
END:VEVENT
END:VCALENDAR