BEGIN:VCALENDAR
VERSION:2.0
PRODID:-//HANEN - ECPv4.3.2//NONSGML v1.0//EN
CALSCALE:GREGORIAN
METHOD:PUBLISH
X-WR-CALNAME:HANEN
X-ORIGINAL-URL:https://medlem.hanen.no
X-WR-CALDESC:Events for HANEN
BEGIN:VEVENT
DTSTART;TZID=Europe/Oslo:20160826T193000
DTEND;TZID=Europe/Oslo:20160826T220000
DTSTAMP:20260421T084101
CREATED:20160510T102814Z
LAST-MODIFIED:20160510T102814Z
UID:14757-1472239800-1472248800@medlem.hanen.no
SUMMARY:Karina Opdal med musikere
DESCRIPTION:"Marlene\, Marilyn & me"\nEn cabaret komponert av de legendariske stjernene Marlene Dietrich og Marylin Monroe sine mange sanger om kjærligheten og alle dens fasetter.\n\nBesøk hjemmesiden vår for mer informasjon om arrangementet og billettkjøp\n\n \n\nVelkommen!
URL:https://medlem.hanen.no/arrangement/karina-opdal-med-musikere/
LOCATION:Postboks 235\, Rosendal\, 5486 
CATEGORIES:Hordaland
ATTACH;FMTTYPE=image/png:https://medlem.hanen.no/wp-content/uploads/2016/05/Skjermbilde-24.png
ORGANIZER;CN="Baroniet%20Rosendal%20":MAILTO:info@baroniet.no
END:VEVENT
END:VCALENDAR