BEGIN:VCALENDAR
VERSION:2.0
PRODID:-//HANEN - ECPv4.3.2//NONSGML v1.0//EN
CALSCALE:GREGORIAN
METHOD:PUBLISH
X-WR-CALNAME:HANEN
X-ORIGINAL-URL:https://medlem.hanen.no
X-WR-CALDESC:Events for HANEN
BEGIN:VEVENT
DTSTART;TZID=Europe/Oslo:20221218T120000
DTEND;TZID=Europe/Oslo:20221218T160000
DTSTAMP:20260420T083858
CREATED:20221202T093235Z
LAST-MODIFIED:20221202T093235Z
UID:34717-1671364800-1671379200@medlem.hanen.no
SUMMARY:Julemarked og åpen gård på ASK
DESCRIPTION:Velkommen til åpen gård på ASK\n\nDet vil bli salg av Ribbe\, Pinnekjøtt\, julepølser spekemat\, ost fra Thorbjørnrud ysteri og saft og syltetøy fra Røyse Bærpresseri. Salte mandler og andre små delikatesser som kan nytes i førjulstiden\, eller passer perfekt som gaver.\nStore og små gavepakker som passer til alle.\n\nAktiviteter for barna som hest og slede\, besøke dyrene i fjøset og akebakke om været tillater det. Kaffe\, glovarme jålete grillpølser\, gløgg og boller. Garantert julestemning !\n\nForhåndsbestillinger og forespørsler sendes til jul@askgard.no
URL:https://medlem.hanen.no/arrangement/julemarked-og-apen-gard-pa-ask/
LOCATION:Amundrudveien 63\, Jevnaker\, 3520
CATEGORIES:Oppland
ATTACH;FMTTYPE=image/jpeg:https://medlem.hanen.no/wp-content/uploads/2022/12/Ask_gaard.jpg
ORGANIZER;CN="Ask%20G%C3%A5rd%20Foredling":MAILTO:post@askgard.no
END:VEVENT
END:VCALENDAR