BEGIN:VCALENDAR
VERSION:2.0
PRODID:-//HANEN - ECPv4.3.2//NONSGML v1.0//EN
CALSCALE:GREGORIAN
METHOD:PUBLISH
X-WR-CALNAME:HANEN
X-ORIGINAL-URL:https://medlem.hanen.no
X-WR-CALDESC:Events for HANEN
BEGIN:VEVENT
DTSTART;TZID=Europe/Oslo:20161126T120000
DTEND;TZID=Europe/Oslo:20161127T170000
DTSTAMP:20260421T085038
CREATED:20161020T075856Z
LAST-MODIFIED:20161020T075856Z
UID:17151-1480161600-1480266000@medlem.hanen.no
SUMMARY:Julemarked
DESCRIPTION:Velkommen til julemarked på Totenvika gallleri og kulturkafe (Skramstad Søndre).\nÅpningstider for begge dagene er fra kl 12.00 - 17.00.\nHer vil man finne boder ute på tunnet og hovedhuset vil være fult med julevarer. Kafeen er også åpent.\nSalg av kunst og håndverk som maleri\, smykker\, tekstil\, keramikk\, glass\, tre o.l. Andre varer som du finner er bl.a fatbrød\, lefser\, kaker\, saft\, syltetøy\, krydder\, sjokolade\, julegaver o.l.
URL:https://medlem.hanen.no/arrangement/julemarked-2/
LOCATION:Steindalen 53\, Skreia\, 2848 
GEO:60.6461978;10.9878859
X-APPLE-STRUCTURED-LOCATION;VALUE=URI;X-ADDRESS=Steindalen 53 Skreia 2848;X-APPLE-RADIUS=500;X-TITLE=Steindalen 53:geo:10.9878859,60.6461978
CATEGORIES:Oppland
ATTACH;FMTTYPE=image/jpeg:https://medlem.hanen.no/wp-content/uploads/2016/10/tot.jpg
ORGANIZER;CN="Totenvika%20Galleri%20og%20Kulturkaf%C3%A9":MAILTO:kontakt@erikottarhansen.no
END:VEVENT
END:VCALENDAR