BEGIN:VCALENDAR
VERSION:2.0
PRODID:-//HANEN - ECPv4.3.2//NONSGML v1.0//EN
CALSCALE:GREGORIAN
METHOD:PUBLISH
X-WR-CALNAME:HANEN
X-ORIGINAL-URL:https://medlem.hanen.no
X-WR-CALDESC:Events for HANEN
BEGIN:VEVENT
DTSTART;TZID=Europe/Oslo:20191129T180000
DTEND;TZID=Europe/Oslo:20191130T120000
DTSTAMP:20260421T084231
CREATED:20191121T125135Z
LAST-MODIFIED:20191121T125135Z
UID:25173-1575050400-1575115200@medlem.hanen.no
SUMMARY:Julekonsert med Torstein\, Ailie Reid\, Irene Simonsen og Corona
DESCRIPTION:Tradisjonen tru inviterer Husfar Torstein på ny til juleselskap med humor\, musikk og mykje mat. Opplev magisk julestemning med julekonsert\, 4 rettars middag og heimebaka julekaker i konsertsalen på Haaheim.\n\nSopran Ailie Reid og andre vener av Torstein vil setje julestemning med musikk. Torstein koserar omkring juletradisjonar. Kjøkkenet tryllar fram dei nydelegaste rettar og personalet vil vise fram eit julepynta Haaheim med tende ljos.\n\nPris:\nOvernatting i db.rom med frukost: 2290\,- per natt\nJulekonsert og 5 rettars middag: 795\,- per kuvert\n\nFredag 29.november kl. 18:00 – middag etter førestillinga\nLaurdag 30.november kl.18:00 – middag etter førestillinga\n\nMe gler oss til å stå med opne dører til eit gjestebod ein vil minnast lenge.\n\nFor bestilling kontakt booking:\n53433000 / 90472920\npost@haaheimgaard.no
URL:https://medlem.hanen.no/arrangement/julekonsert-med-torstein-ailie-reid-irene-simonsen-og-corona/
LOCATION:Haaheim\, Uggdal\, 5685 
GEO:60.0040161;5.5287858
X-APPLE-STRUCTURED-LOCATION;VALUE=URI;X-ADDRESS=Haaheim Uggdal 5685;X-APPLE-RADIUS=500;X-TITLE=Haaheim:geo:5.5287858,60.0040161
CATEGORIES:Hordaland
ATTACH;FMTTYPE=image/jpeg:https://medlem.hanen.no/wp-content/uploads/2019/11/62314690_2219904061391405_4241591242036609024_n.jpg
ORGANIZER;CN="Haaheim%20Gaard":MAILTO:post@haaheimgaard.no
END:VEVENT
END:VCALENDAR