BEGIN:VCALENDAR
VERSION:2.0
PRODID:-//HANEN - ECPv4.3.2//NONSGML v1.0//EN
CALSCALE:GREGORIAN
METHOD:PUBLISH
X-WR-CALNAME:HANEN
X-ORIGINAL-URL:https://medlem.hanen.no
X-WR-CALDESC:Events for HANEN
BEGIN:VEVENT
DTSTART;TZID=Europe/Oslo:20161016T140000
DTEND;TZID=Europe/Oslo:20161016T180000
DTSTAMP:20260421T095258
CREATED:20161011T140620Z
LAST-MODIFIED:20161011T140702Z
UID:17055-1476626400-1476640800@medlem.hanen.no
SUMMARY:Julebuffet
DESCRIPTION:Hver søndag serverer vi julematbuffet fra kl 14 - 18.00. Denne innholder varm julemat som ribbe\, pinnekjøtt og julepølser med naturlig tilbehør i tillegg til dessert og kaffe.\n\n \n\nVelkommen!
URL:https://medlem.hanen.no/arrangement/julebuffet/2016-10-16/
LOCATION:Torgveien 2\, Nordkjosbotn\, Troms\, 9040\, Norge
GEO:69.2182965;19.5595165
X-APPLE-STRUCTURED-LOCATION;VALUE=URI;X-ADDRESS=Torgveien 2 Nordkjosbotn Troms 9040 Norge;X-APPLE-RADIUS=500;X-TITLE=Torgveien 2:geo:19.5595165,69.2182965
CATEGORIES:Troms
ATTACH;FMTTYPE=image/jpeg:https://medlem.hanen.no/wp-content/uploads/2016/10/vollan.jpg
ORGANIZER;CN="Vollan%20Gjestestue":MAILTO:post@vollangjestestue.no
END:VEVENT
END:VCALENDAR