BEGIN:VCALENDAR
VERSION:2.0
PRODID:-//HANEN - ECPv4.3.2//NONSGML v1.0//EN
CALSCALE:GREGORIAN
METHOD:PUBLISH
X-WR-CALNAME:HANEN
X-ORIGINAL-URL:https://medlem.hanen.no
X-WR-CALDESC:Events for HANEN
BEGIN:VEVENT
DTSTART;TZID=Europe/Oslo:20151212T183000
DTEND;TZID=Europe/Oslo:20151213T020000
DTSTAMP:20260420T095328
CREATED:20151008T082010Z
LAST-MODIFIED:20151008T082010Z
UID:13020-1449945000-1449972000@medlem.hanen.no
SUMMARY:Julebord med Thousand Island DJs!
DESCRIPTION:Velkommen til julebord med Thousand Island!\n\nDenne gjengen har vært her flere ganger før\, og det er alltid vanskelig å få dem til å skru av musikken ved stengetid...\nDe stiller med dansegaranti!\n\n18.30 Aperitif\n19.00 Treretters middag av lokale råvarer\n21.30 Rytmer\, musikk\, dans og moro :)\n\nJulebordspakke: kr. 795\,- per pers.\n\nTilbud på overnatting; \n650\,- per pers for dobbeltrom\n950\,- per pers for enkeltrom\n\nTa kontakt på post@stokkoy.no eller tlf: 72 53 43 28 for booking.
URL:https://medlem.hanen.no/arrangement/julebord-med-thousand-island-djs/
LOCATION:Troningsveien 7\, Stokkøy \, Sør trøndelag\, 7178\, Norge
GEO:64.072376;10.003975
X-APPLE-STRUCTURED-LOCATION;VALUE=URI;X-ADDRESS=Troningsveien 7 Stokkøy  Sør trøndelag 7178 Norge;X-APPLE-RADIUS=500;X-TITLE=Troningsveien 7:geo:10.003975,64.072376
CATEGORIES:Sør-Trøndelag
ATTACH;FMTTYPE=image/jpeg:https://medlem.hanen.no/wp-content/uploads/2015/10/12108891_901194066626137_4169743842565118124_n.jpg
ORGANIZER;CN="Stokk%C3%B8ya%20Sj%C3%B8senter%20":MAILTO:post@stokkoy.no
END:VEVENT
END:VCALENDAR