BEGIN:VCALENDAR
VERSION:2.0
PRODID:-//HANEN - ECPv4.3.2//NONSGML v1.0//EN
CALSCALE:GREGORIAN
METHOD:PUBLISH
X-WR-CALNAME:HANEN
X-ORIGINAL-URL:https://medlem.hanen.no
X-WR-CALDESC:Events for HANEN
BEGIN:VEVENT
DTSTART;TZID=Europe/Oslo:20161209T190000
DTEND;TZID=Europe/Oslo:20161210T010000
DTSTAMP:20260421T083852
CREATED:20161103T083459Z
LAST-MODIFIED:20161103T083459Z
UID:17249-1481310000-1481331600@medlem.hanen.no
SUMMARY:Jol i stogo
DESCRIPTION:Velkommen til eit upretansiøst jolebord med muntre viser og jolemat. Gruppa Grønbygil serverer oss nye og gamle bygdeviser med banjo\, fele og gitar. Visene er mest på norsk\, men er inspirert av irsk og amerikansk folkemusikk. Kjøkkenet lar seg og påvirke av utlandet og serverer norsk jolemat inspirert av spanske smårettar.\nInngang Kr 525\,-\n\nPåmelding tlf 35052143
URL:https://medlem.hanen.no/arrangement/jol-i-stogo/
LOCATION:Flatdalsvegen 1283\, Flatdal\, 3841
GEO:59.5705579;8.5484317
X-APPLE-STRUCTURED-LOCATION;VALUE=URI;X-ADDRESS=Flatdalsvegen 1283 Flatdal 3841;X-APPLE-RADIUS=500;X-TITLE=Flatdalsvegen 1283:geo:8.5484317,59.5705579
CATEGORIES:Telemark
ATTACH;FMTTYPE=image/jpeg:https://medlem.hanen.no/wp-content/uploads/2016/11/nut.jpg
ORGANIZER;CN="Nutheim%20Gjestgiveri":MAILTO:nutheim@online.no
END:VEVENT
END:VCALENDAR