BEGIN:VCALENDAR
VERSION:2.0
PRODID:-//HANEN - ECPv4.3.2//NONSGML v1.0//EN
CALSCALE:GREGORIAN
METHOD:PUBLISH
X-WR-CALNAME:HANEN
X-ORIGINAL-URL:https://medlem.hanen.no
X-WR-CALDESC:Events for HANEN
BEGIN:VEVENT
DTSTART;TZID=Europe/Oslo:20150904T200000
DTEND;TZID=Europe/Oslo:20150904T200000
DTSTAMP:20260420T121705
CREATED:20150827T130601Z
LAST-MODIFIED:20150827T130601Z
UID:12842-1441396800-1441396800@medlem.hanen.no
SUMMARY:Intimkonsert med Monoswezi!
DESCRIPTION:Monoswezi er et kollektiv med musikere opprinnelig fra Mozambique\, Norge\, Sverige og Zimbabwe. Med felles lidenskap for afrikansk musikktradisjon generelt\, og musikk fra Zimbabwe og Mozambique spesielt\, søker Monoswezi et musikalsk uttrykk der respekten for tradisjonen forenes med ulike referanser og erfaringer fra moderne vestlig musikk. I tillegg til afrikansk tradisjonmusikk\, spiller Monoswezi også egenkomponert musikk\, med en sterk improvisatorisk tilnærming som felles utgangspunkt.\n\n“A unique sound blending traditional songs from Zimbabwe with Scandinavian Jazz“ CNN\, USA\n\nVi gleder oss!\n\nMonoswezi Yanga ligger forøvrig på 6 plass på World Music Charts Europe over de mest spilte platene på radio for tiden http://wmce.de/
URL:https://medlem.hanen.no/arrangement/intimkonsert-med-monoswezi/
LOCATION:Osloveien 12\, Røros\, Sør-Trøndelag\, 7374\, Norge
GEO:62.5723293;11.387913
X-APPLE-STRUCTURED-LOCATION;VALUE=URI;X-ADDRESS=Osloveien 12 Røros Sør-Trøndelag 7374 Norge;X-APPLE-RADIUS=500;X-TITLE=Osloveien 12:geo:11.387913,62.5723293
CATEGORIES:Sør-Trøndelag
ATTACH;FMTTYPE=image/jpeg:https://medlem.hanen.no/wp-content/uploads/2015/08/11887952_896505417093408_4599514423470983586_n.jpg
ORGANIZER;CN="Solheim%20Pensjonat":MAILTO:post@solheimpensjonat.no
END:VEVENT
END:VCALENDAR