BEGIN:VCALENDAR
VERSION:2.0
PRODID:-//HANEN - ECPv4.3.2//NONSGML v1.0//EN
CALSCALE:GREGORIAN
METHOD:PUBLISH
X-WR-CALNAME:HANEN
X-ORIGINAL-URL:https://medlem.hanen.no
X-WR-CALDESC:Events for HANEN
BEGIN:VEVENT
DTSTART;TZID=Europe/Oslo:20180609T100000
DTEND;TZID=Europe/Oslo:20180609T170000
DTSTAMP:20260420T084209
CREATED:20180423T175205Z
LAST-MODIFIED:20180423T175205Z
UID:21739-1528538400-1528563600@medlem.hanen.no
SUMMARY:Insektenes matfat\, - hvordan vi alle kan bidra
DESCRIPTION:Bli med lørdag 9.juni når villblomstene blomster og insektene summer for å oppleve og lære om trua natur!\n\nDen årlige guidede ravinevandringen mellom Veset og Huser blir utvidet til et lørdagsseminar med innledninger av fagfolk om insekter og blomster. Hageblomster\, blomstereng\, slått; hva kan hver av oss bidra med for å stoppe insektsdød?\nEtter lunsj vandrer vi gjennom viktige deler av insekters matfat: blomstereng\, slåttemark\, raviner og elvelandskap. Ødelegger vi insektenes matfat\, ødelegger vi vårt eget. I dag er en tredel av villbiene utrydningstrua\, og det truer matproduksjonen vår. Sett av dagen og bli klokere på hva vi skal by humler\, bier og andre insekter.\n\nPåmelding veset@online.no innen 2.juni.
URL:https://medlem.hanen.no/arrangement/insektenes-matfat-hvordan-vi-alle-kan-bidra/
LOCATION:Vesetalléen 20\, Vormsund\, 2160\, Norge
GEO:60.1534263;11.4159705
X-APPLE-STRUCTURED-LOCATION;VALUE=URI;X-ADDRESS=Vesetalléen 20 Vormsund 2160 Norge;X-APPLE-RADIUS=500;X-TITLE=Vesetalléen 20:geo:11.4159705,60.1534263
CATEGORIES:Akershus
ATTACH;FMTTYPE=image/jpeg:https://medlem.hanen.no/wp-content/uploads/2018/04/bie.jpg
END:VEVENT
END:VCALENDAR