BEGIN:VCALENDAR
VERSION:2.0
PRODID:-//HANEN - ECPv4.3.2//NONSGML v1.0//EN
CALSCALE:GREGORIAN
METHOD:PUBLISH
X-WR-CALNAME:HANEN
X-ORIGINAL-URL:https://medlem.hanen.no
X-WR-CALDESC:Events for HANEN
BEGIN:VEVENT
DTSTART;TZID=Europe/Oslo:20161029T183000
DTEND;TZID=Europe/Oslo:20161030T020000
DTSTAMP:20260421T113104
CREATED:20160929T142222Z
LAST-MODIFIED:20160929T142222Z
UID:16891-1477765800-1477792800@medlem.hanen.no
SUMMARY:Høsttakkefest i kufjøset på Sigstad
DESCRIPTION:Vi gjentar suksessen med langbord og har nå gleden av å invitere til høsttakkefest i det gamle kufjøset på Sigstad Gård.\nDet blir et gedigent langbord som dekkes i bugnende høststil fra Ment fra Fåberg. Låven dekoreres og fylles med grønnsaker fra Mat fra Toten og vi har denne gang gleden av å samarbeide med Bjørn Hettervik fra Lysaker Gjestiveri.\n\nDet blir 15 retters middag med smaker fra Sigstad Gård og Bjørn Hettervik. Bare lokale råvarer og masse deilige grønnsaker fra Mat fra Toten. Det skal bugne og vi lover en uforglemmelig opplevelse.\n\nPris pr. pers er 900.- inkl. aperitif\nVi har veldig stor pågang på plassene så det er bindende påmelding med betaling i forkant.\n\nDet blir salg av øl og vin.\n\nVi gleder oss til en flott kveld :-)\n\nDere som allerede har reservert plass vil få informasjonen tilsendt og bli kontaktet fortløpende!
URL:https://medlem.hanen.no/arrangement/hosttakkefest-i-kufjoset-pa-sigstad/
LOCATION:Øverbygdsvegen 87\, Biri\, Norge\, 2836\, Norge
GEO:60.9598034;10.5894844
X-APPLE-STRUCTURED-LOCATION;VALUE=URI;X-ADDRESS=Øverbygdsvegen 87 Biri Norge 2836 Norge;X-APPLE-RADIUS=500;X-TITLE=Øverbygdsvegen 87:geo:10.5894844,60.9598034
CATEGORIES:Oppland
ATTACH;FMTTYPE=image/jpeg:https://medlem.hanen.no/wp-content/uploads/2016/09/sig.jpg
ORGANIZER;CN="Sigstad%20G%C3%A5rd%20-%20bryllupsg%C3%A5rden":MAILTO:julie@sigstadgaard.no
END:VEVENT
END:VCALENDAR