BEGIN:VCALENDAR
VERSION:2.0
PRODID:-//HANEN - ECPv4.3.2//NONSGML v1.0//EN
CALSCALE:GREGORIAN
METHOD:PUBLISH
X-WR-CALNAME:HANEN
X-ORIGINAL-URL:https://medlem.hanen.no
X-WR-CALDESC:Events for HANEN
BEGIN:VEVENT
DTSTART;TZID=Europe/Oslo:20160903T100000
DTEND;TZID=Europe/Oslo:20160904T160000
DTSTAMP:20260421T112619
CREATED:20160302T204856Z
LAST-MODIFIED:20160302T204856Z
UID:14124-1472896800-1473004800@medlem.hanen.no
SUMMARY:Høstmarked
DESCRIPTION:Marked med stands med variert innhold. Gårdsbutikk\, underholdning\, husflid\, håndverk\, ridning\, leker\, pil og bue\, vikingslag\, mat og drikke er noe av det vi kan friste med.\nØnsker du å ha en stand eller vil bidra på annen måte\, må du gjerne ta kontakt.\nMer info på: www.vikingmarked.no
URL:https://medlem.hanen.no/arrangement/hostmarked/
CATEGORIES:Akershus
ATTACH;FMTTYPE=image/jpeg:https://medlem.hanen.no/wp-content/uploads/2016/03/12814533_1025067304198576_8951422462679432497_n.jpg
ORGANIZER;CN="Vikingegarden%20Maurenga":MAILTO:maurenga@online.no
END:VEVENT
END:VCALENDAR