BEGIN:VCALENDAR
VERSION:2.0
PRODID:-//HANEN - ECPv4.3.2//NONSGML v1.0//EN
CALSCALE:GREGORIAN
METHOD:PUBLISH
X-WR-CALNAME:HANEN
X-ORIGINAL-URL:https://medlem.hanen.no
X-WR-CALDESC:Events for HANEN
BEGIN:VEVENT
DTSTART;TZID=Europe/Oslo:20200528T120000
DTEND;TZID=Europe/Oslo:20200529T170000
DTSTAMP:20260420T101222
CREATED:20200702T214049Z
LAST-MODIFIED:20200702T214049Z
UID:27133-1590667200-1590771600@medlem.hanen.no
SUMMARY:Hjemmelevering av ferske egg og lokalmat
DESCRIPTION:Hjemmelevering ble veldig populært før påske\, og vi prøver derfor å videreføre hjemmelevering av ferske egg og andre lokalproduserte varer.\n\nTorsdag 28.05.20 kjører vi strekningen Svorkmo\, Fannrem\, Orkanger og Gjølme\n\nFredag 28.09.20 kjører vi strekningen Løkken Verk\, Storås og Rindal.\n\n \n\nEGG FRA VÅRE FRITTGÅENDE HØNER\nMed en solgul plomme. Vi gjennomlyser alle eggene og sorterer de etter størrelse.\n\nBrett med 30 stk. M/L egg\nkr. 70\,-\n\nBrett med 30 stk. SMÅ egg\nkr. 40\,-\n\nBrett med 15 stk. XL egg\nkr. 50\,-\n\nS - små egg: Under 53 gram\nM/L–mellomstore/store egg: 53-73 gram\nXL–ekstra store egg: Over 73 gram\n\nVed bestilling av KUN EGG\, kommer ett tillegg for frakt på kr. 20\,- for det første brettet\, deretter som prisene ovenfor.\n\nANDRE VARER FRA LOKALE PRODUSENTER SOM DU OGSÅ FINNER I VÅRT GÅRDSUTSALG.\nVed bestilling av egg og andre varer - minimumsbestiling kr. 300\,-\nFrakt kr. 60\,-\n\nKårkailln's tyttebær syltetøy\nkr. 60\,- (noe begrenset antall)\n\nFOSSLYKKJA BIGÅRD\, Fannrem\nHonning og honningprodukt:\n\nSkogshonning er en lys kremartig honning med en litt mer markant blomster smak. Skogshonningen kommer fra en 14 dages periode mellom sommer og lyng trekk.\n125 g. glass kr. 50\,-\n\nLynghonning er en mørk honning med kraftigere smak. Lynghonningen kommer fra Hitra. biene trekker hovedsakelig på røsslyng og litt klokkelyng så noe av lynghonningen er litt mer flytende.\n125 g. glass kr. 50\,-\n250 g. glass kr. 80\,-\nFlaske 320 ml Kr. 80\,-\n\nHånstaur - honningsennep\nHånstaur er en sennep tilsatt lynghonning og ulike typer krydder. Kan brukes til det meste man bruker sennep til. Godt på ostesmørbrød\, pølser\, wraps og til ulike typer sauser og dressinger\nFlaske 320 ml kr. 80\,-\n\nGomatræv - karamellsaus\nEr en karamellsaus laget av lynghonning. Fint å bruke på frokostblandinger\, is og kaker.\nFlaske 320 ml kr. 80\,-\n\nNæpgræv - fiskemarinade\nEr marinade/saus som er laget av soya og lynghonning til fisk. Fint å ha på grillet fisk\, sushi ol\nFlaske 320 ml kr. 80\,-\n\nHespetre - marinade\nEr en marinade laget av soya\,oliven og lynghonning som er fin til all type kjøtt. både lyst og mørkt kjøtt.\nFlaske 320 ml kr. 80\,-\n\nSTEINDALEN GÅRD\, Gjølme\nStorfekjøtt og kjøttprodukter\n\nArn`s spesial\, krydret grillpølse i 4 pk. 90\,-\n\nFlatbiff biter på 500-700 g. 240\,- pr. kg.\n\nHereford pølse med einebær\, saftig god spekepølse\n200 gr. kr. 100\,-\n\nRøkt kjøttpølse /middagspølser i 4 pk. kr. 140\,-\n\nLANDRØ LENSVIK\nProdukter av egenproduserte jordbær\n\nEn frisk perlende jordbærdrikk\, 'Jordbærtausa'\, i 330ml. flasker. Laget fra ren jordbærjuice fra gården her i Lensvik\, og tilsatt lite sukker. Smaker bare jordbær .\n- Flaske Jordbærtausa kr. 40\,- (330ml)\n\nSAFT av jordbærjuice og plommejuice (begge usprøytet). Frosset. Blandes ut ca. 1:4\n-En flaske 500ml: kr. 80\,-\n\nJordbærjuice (frosset)\, fra usprøytet jordbær. Passer til å lage saft\, eller som smak til 'boblevann'\n-En flaske 500ml: kr. 80\,-\n\nDessertsaus (87% jordbær!). Frosset i 5dl flasker. Helt super på riskrem og is!\n-en flaske kr. 85\,-\n\nBjørnebær og eple gelé- laget fra rå juice fra usprøytete bær og epler (like mye av begge).  Perfekt tilbehør til ost\, eller på brødskiva!\n- glass ca. 230g kr. 85\,-\n\nJordbær og rips gelé med mynte- en deilig gelé laget fra rå juice fra usprøytete bær (like mye av begge). Perfekt tilbehør til alle kjøtt\, men spesielt egnet til lammekjøtt!\n- glass ca. 230g kr. 85\,-\n\nHøst chutney: med gresskar\, epler\, løk\, grønne tomater og jordbær (alt usprøytet). En deilig krydret sursøt blanding som passer godt til ost og kjeks\, på kald skinke og sammen med Indisk mat.!\n- glass ca. 230 g: kr. 65\,-\n\nRENSKLEIV GÅRD\, Fannrem\nStorfekjøtt og kjøttprodukter\n\nHamburgere av kjøtt og krydder\n4-pk. 120\,- pr pk.\n\nKjøttdeig\, 500 gram i pakken. 65\,- pr pk.\n\nKarbonader\, ferdigstekte og bare å varme opp. Saftige! 8 i pakken\, 150\,- pr pk\n\nKjøttkaker\, ferdigstekte\, NYHET\, 8 i pakken\, 130\,-\n\nKraftbein\, til koking av kraft\, 75\,- for 1500 gram.\n\nMorrpølse\, 150\,-\n\nKryddermorr 150\,-\n\nSpekepølse 120\,-\n\nRøkt kjøttpølse\, ferdige middagspølser\, til oppvarming\, 4 i pakken\, 140\,-\n\nSpekepinner eller ølpinner\, om du vil. Korte tynne spekepølser\, til tur eller snacks.\n4 i pakken. 60\,- pr pk.\n\nBadsturøkt storfe\, oksesteik som er saltet og røkt. Brukes som pålegg\, til spekemat\, i salater mm. Saftig og litt salt.\nBiter på 400-600 gram ca. 400\,- pr kg.\n\nORKLADAL YSTERI\, Gjølme\nLokalprodusert ost\, biter i forskjellige størrelser og pris.\n\nHøvding Sverre ung\nMild\, halvfast ost modnet ca. 4måneder\n\nHøvding Sverre Lagret\nLagret fast ost modnet ca. 8 måneder\n\nHøvding Sverre XO\nLagret fast ost modnet mer enn 12 måneder\n\nSøster Cecilia\nFast karveost ca. 3 måneder\n\nSkjenald\nMyk kittost ca. 2\,5 måneder\n\nGelmin\nHalvfast blåost lagret ca. 4måneder.\n\nKJØTT FRA GRASFORET BELTED GALLOWAY\, Nerstuggu Asbøll Gård\nKjøttkakefarse 1 kg (ferdig spedd\, kun krydder og melk)  kr. 175\,-\n\nMørbrad pakker på ca. 500 - 700 g kr. 330\,- pr. kg.\n\nFlatbiff pakker på 500 - 700 g kr. 265\,- pr. kg. (skjær den i tynneskiver og stek kjapt i en stekepanne).\n\nSurret oksesteik 1 - 2 kg\, kr. 250\,- pr. kg (super mat som lager seg selv under søndagsturen)\n\nShortribs 0\,4 - 1 kg kr. 190\,- pr. kg\n\nMIDTSKOGEN TRADISJON OG GÅRDSMAT\, Løkken Verk\nSjokolade og sennep\n\nHjerte gaveesker med ass. sjokolade\nkr. 180\,-\n\nLakriskuler i pose\nkr. 70\,-\n\nFruktbar - energi til turen\nvelg mellom hvit eller vanlig sjokolade\nkr. 70\,-\n\nMild sennep\nkr. 60\,-\n\nGrov sennep\nkr. 60\,-\n\nAprikos sennep - en søtere variant\nkr. 70\,-\n\nFISKERFRUENS HJEMMELAGDE\, Gjølme\n\nSeilaks kr. 70\,-\n\nTomatsild kr. 75\,-\n\nChilisild kr. 75\,-\n\nSennepssild kr. 75\,-\n\nHerskapssild kr. 90\,-\n\nLYKKEMAT\nØkologisk produkter av urkorn\n\nGranola av urkorn\nkr. 100\,-\n\nSvedjerugkjeks\nkr. 65\,-\n\nGULLIMUNN\nØkologisk mel av urkorn\n\nVaffelmel 2 kg\nkr. 140\,-\n\nSpelt siktet 2 kg\nkr. 140\,-\n\nSpelt sammalt 2 kg\nkr. 130\,-\n\nER DU GLAD I Å STRIKKE?\nVi kan også tilby kortreist garn\, fra bortskjemte sauer i Meldal!\nGunn Elin på Holum Gård\, klipper alle sauene sine selv\, den fineste ulla sender hun til spinneri og får igjen nydelig\, naturfarget garn fra sine gammelnorske spælsauer og grå trønder.\n\nGarnnøste av gammelnorsk spæl sau 100 g\nkr. 200\,- pr. stk\nSe farger på bilde som blir lagt ut\n\nStrikkepakker\, med garn og oppskrift:\n\nHolumvotten\nav gammelnorsk spæl sau\nkr. 450\,-\n\nHolumsokken\nav gammelnorsk spæl sau\nkr. 450\,-\n\nVotter av grå trønder\nkr. 350\,-\n\nLua te ho mor av grå trønder\nkr. 300\,-\n\nHals av grå trønder\nkr. 450\,-\n\nHøst lue av gammelnorsk spæl\nkr. 450\,-\n\nHøstvotter av gammelnorsk spæl\nkr. 410\,-\n\nIrmen pulsvanter av gammelnorsk spæl\nkr. 245\,-\n\nIrmen lua av gammel norsk spæl\nkr. 350\,-\n\nIrmen vottene av gammel norsk spæl\nkr. 450\,-\n\nFerdig strikk - sitteunderlag\nkr. 300\,-\n\nHJEMMELEVERING:\nTilbys i området Svorkmo\, Fannrem\, Orkanger og Gjølme.\n\nØnsker du at vi skal pakke klar varene til dere så det er bare å stikke innom å hente? Ta kontakt davel :-)\n\nFRAKT og bestillingsbetingelser (innenfor gamle Orkdal Kommune):\nVed bestilling av egg og andre varer - minimumsbestilling kr. 300\,-\nFrakt kr. 60\,-\n\nVed bestilling av KUN EGG\, kommer ett tillegg på kr. 20\,- for det første brettet.\n\nBESTILLING:\nPå tlf. 481 00 572 eller e-post til storkvikne@outlook.com\n\nVED BESTILLING:\nOppgi navn\, adresse og telefonnummer\n\nBESTILLINGSFRIST:\nMandag 25.05.20 kl. 18:00\n\nBETALING:\nVi ber om penger på vipps på utleveringsdagen.
URL:https://medlem.hanen.no/arrangement/hjemmelevering-av-ferske-egg-og-lokalmat/
LOCATION:Berbusjårvegen 46\, Orkanger\, Norge
ATTACH;FMTTYPE=image/jpeg:https://medlem.hanen.no/wp-content/uploads/2020/05/40.jpg
ORGANIZER;CN="Storkvikne%20G%C3%A5rd":MAILTO:storkvikne@outlook.com
END:VEVENT
END:VCALENDAR