BEGIN:VCALENDAR
VERSION:2.0
PRODID:-//HANEN - ECPv4.3.2//NONSGML v1.0//EN
CALSCALE:GREGORIAN
METHOD:PUBLISH
X-WR-CALNAME:HANEN
X-ORIGINAL-URL:https://medlem.hanen.no
X-WR-CALDESC:Events for HANEN
BEGIN:VEVENT
DTSTART;TZID=Europe/Oslo:20160827T193000
DTEND;TZID=Europe/Oslo:20160827T230000
DTSTAMP:20260421T101506
CREATED:20160509T122819Z
LAST-MODIFIED:20160509T122819Z
UID:14701-1472326200-1472338800@medlem.hanen.no
SUMMARY:Historisk-kulinarisk middag under matfestivalen
DESCRIPTION:En rett fra hvert tiår 1916-2016!\n\nHer finner vi frem 10 historiske retter som kunne ha\, og har vært servert på Petrines. Det blir en reise i matkultur og smak gjennom de siste 100 årene. Du får også en historisk drikkemeny for kr 450\,-\n\n \n\nFor mer informasjon ta kontakt på Petrines@petrinesg.no\n\nVelkommen!
URL:https://medlem.hanen.no/arrangement/historisk-kulinarisk-middag-under-matfestivalen/
LOCATION:Relling\, Norddal\, 6214 
GEO:62.2481879;7.2375702
X-APPLE-STRUCTURED-LOCATION;VALUE=URI;X-ADDRESS=Relling Norddal 6214;X-APPLE-RADIUS=500;X-TITLE=Relling:geo:7.2375702,62.2481879
CATEGORIES:Møre og Romsdal
ATTACH;FMTTYPE=image/jpeg:https://medlem.hanen.no/wp-content/uploads/2016/05/Petrines_Hanen_195A2679_FotoKristinSt_ylen_clwbht.jpg
ORGANIZER;CN="Petrines%20Gjestgiveri":MAILTO:petrines@petrinesg.no
END:VEVENT
END:VCALENDAR