BEGIN:VCALENDAR
VERSION:2.0
PRODID:-//HANEN - ECPv4.3.2//NONSGML v1.0//EN
CALSCALE:GREGORIAN
METHOD:PUBLISH
X-WR-CALNAME:HANEN
X-ORIGINAL-URL:https://medlem.hanen.no
X-WR-CALDESC:Events for HANEN
BEGIN:VEVENT
DTSTART;TZID=Europe/Oslo:20170505T190000
DTEND;TZID=Europe/Oslo:20170505T220000
DTSTAMP:20260421T083930
CREATED:20170426T090039Z
LAST-MODIFIED:20170426T090039Z
UID:18690-1494010800-1494021600@medlem.hanen.no
SUMMARY:Heme dine - Tjuvstart
DESCRIPTION:Vi tjuvstarter festivalen med en kveld på Anne på Landet!\n\nDet blir slipp av festivalprogrammet v/ leder Sigrid Stubsveen\, presentasjon av årets festivalmeny av Anne på landet café & galleri og forestilling med gruppa Frøken.\n\nI billetten får du en kveld med både forestilling og mat\, alt inkludert i prisen.\nAnne på Landet serverer deilig hjemmelaget fingermat av lokale råvarer\, smaken du vil kjenne igjen på festival i sommer.\n\n//FRØKEN//\nFrøken er en stemningsfull forestilling med musikk og dans\, tradisjonell og nykomponert. Utøverne utforsker scenerommet\, samspillet og de enkeltes ulike styrker.\n\n\n\nLes mer
URL:https://medlem.hanen.no/arrangement/heme-dine-tjuvstart/
LOCATION:Hylleråsvegen 10\, Engerdal\, 2440
GEO:61.6342868;12.0288921
X-APPLE-STRUCTURED-LOCATION;VALUE=URI;X-ADDRESS=Hylleråsvegen 10 Engerdal 2440;X-APPLE-RADIUS=500;X-TITLE=Hylleråsvegen 10:geo:12.0288921,61.6342868
CATEGORIES:Hedmark
ATTACH;FMTTYPE=image/gif:https://medlem.hanen.no/wp-content/uploads/2017/04/Anne-på-landet.gif
ORGANIZER;CN="Anne%20p%C3%A5%20landet":MAILTO:hei@annejarulf.no
END:VEVENT
END:VCALENDAR