BEGIN:VCALENDAR
VERSION:2.0
PRODID:-//HANEN - ECPv4.3.2//NONSGML v1.0//EN
CALSCALE:GREGORIAN
METHOD:PUBLISH
X-WR-CALNAME:HANEN
X-ORIGINAL-URL:https://medlem.hanen.no
X-WR-CALDESC:Events for HANEN
BEGIN:VEVENT
DTSTART;TZID=Europe/Oslo:20170223T180000
DTEND;TZID=Europe/Oslo:20170223T233000
DTSTAMP:20260421T083936
CREATED:20170207T081624Z
LAST-MODIFIED:20170207T142844Z
UID:17903-1487872800-1487892600@medlem.hanen.no
SUMMARY:Helaften i Volldalskoja
DESCRIPTION:Ole Peder og kuskene frakter oss med hest og slede til Koja\, hvor det serveres en bedre 3-retters middag.\nI et bygg tuftet på gamle byggetradisjoner i tømmer og sten\, blir det en spesiell stemning rundt bålet med lekende toner fra lokale spellmenn.\nTiden står stillle gjennom kvelden.....\n\nTa kontakt for mer informasjon og et uforpliktende tilbud\,\npost@vauldalenfjellhotell.no eller tlf 72 41 31 00
URL:https://medlem.hanen.no/arrangement/helaften-i-volldalskoja/
LOCATION:Vauldalen\, Brekkebygd\, Sør-Trøndelag\, 7370\, Norge
GEO:62.6379897;12.0266145
X-APPLE-STRUCTURED-LOCATION;VALUE=URI;X-ADDRESS=Vauldalen Brekkebygd Sør-Trøndelag 7370 Norge;X-APPLE-RADIUS=500;X-TITLE=Vauldalen:geo:12.0266145,62.6379897
CATEGORIES:Akershus,Oppland,Sør-Trøndelag
ATTACH;FMTTYPE=image/jpeg:https://medlem.hanen.no/wp-content/uploads/2017/02/16463700_1604170799611021_2534108198616765206_o.jpg
ORGANIZER;CN="Vauldalen%20Fjellhotell":MAILTO:post@vauldalenfjellhotell.no
END:VEVENT
END:VCALENDAR