BEGIN:VCALENDAR
VERSION:2.0
PRODID:-//HANEN - ECPv4.3.2//NONSGML v1.0//EN
CALSCALE:GREGORIAN
METHOD:PUBLISH
X-WR-CALNAME:HANEN
X-ORIGINAL-URL:https://medlem.hanen.no
X-WR-CALDESC:Events for HANEN
BEGIN:VEVENT
DTSTART;TZID=Europe/Oslo:20180603T120000
DTEND;TZID=Europe/Oslo:20180603T170000
DTSTAMP:20260420T095225
CREATED:20180427T085909Z
LAST-MODIFIED:20180427T085909Z
UID:21697-1528027200-1528045200@medlem.hanen.no
SUMMARY:Hagemarket
DESCRIPTION:Velkommen til vårt populære hagemarked her i Totenvika!\n\nHer blir det salg av planter\, hagemøbler\, pynt til hage og terrasse o.l\nsamt ulike demonstrasjoner
URL:https://medlem.hanen.no/arrangement/hagemarket/
LOCATION:Steindalen 53\, Skreia\, 2848 
GEO:60.6461978;10.9878859
X-APPLE-STRUCTURED-LOCATION;VALUE=URI;X-ADDRESS=Steindalen 53 Skreia 2848;X-APPLE-RADIUS=500;X-TITLE=Steindalen 53:geo:10.9878859,60.6461978
CATEGORIES:Oppland
ATTACH;FMTTYPE=image/jpeg:https://medlem.hanen.no/wp-content/uploads/2018/04/TGK2.jpg
ORGANIZER;CN="Totenvika%20Galleri%20og%20Kulturkaf%C3%A9":MAILTO:kontakt@erikottarhansen.no
END:VEVENT
END:VCALENDAR