BEGIN:VCALENDAR
VERSION:2.0
PRODID:-//HANEN - ECPv4.3.2//NONSGML v1.0//EN
CALSCALE:GREGORIAN
METHOD:PUBLISH
X-WR-CALNAME:HANEN
X-ORIGINAL-URL:https://medlem.hanen.no
X-WR-CALDESC:Events for HANEN
BEGIN:VEVENT
DTSTART;TZID=Europe/Oslo:20170611T110000
DTEND;TZID=Europe/Oslo:20170611T160000
DTSTAMP:20260421T083902
CREATED:20170515T070815Z
LAST-MODIFIED:20170515T070815Z
UID:19212-1497178800-1497196800@medlem.hanen.no
SUMMARY:Guidet ravinevandring
DESCRIPTION:Ravinevandring fra Veset til Huser med botaniker og naturekspert Kåre Homble. Opplev magien ved å gå gjennom blomsterenger\, gammelskog og bli kjent med vekster du sjelden ser. Årets ravinevandring er et samarbeid mellom Kulturminnebøndene og Naturvernforbundet Oslo og Akershus.\n\nLes mer
URL:https://medlem.hanen.no/arrangement/guidet-ravinevandring/
LOCATION:Vesetalléen 20\, Vormsund\, 2160\, Norge
GEO:60.1534263;11.4159705
X-APPLE-STRUCTURED-LOCATION;VALUE=URI;X-ADDRESS=Vesetalléen 20 Vormsund 2160 Norge;X-APPLE-RADIUS=500;X-TITLE=Vesetalléen 20:geo:11.4159705,60.1534263
CATEGORIES:Akershus
ATTACH;FMTTYPE=image/gif:https://medlem.hanen.no/wp-content/uploads/2017/05/Veset-Gård.gif
END:VEVENT
END:VCALENDAR