BEGIN:VCALENDAR
VERSION:2.0
PRODID:-//HANEN - ECPv4.3.2//NONSGML v1.0//EN
CALSCALE:GREGORIAN
METHOD:PUBLISH
X-WR-CALNAME:HANEN
X-ORIGINAL-URL:https://medlem.hanen.no
X-WR-CALDESC:Events for HANEN
BEGIN:VEVENT
DTSTART;VALUE=DATE:20160320
DTEND;VALUE=DATE:20160320
DTSTAMP:20260421T084405
CREATED:20160302T202114Z
LAST-MODIFIED:20160302T202114Z
UID:14118-1458432000-1458518399@medlem.hanen.no
SUMMARY:Gudstjeneste på Langedrag på Palmesøndag
DESCRIPTION:Tradisjonen tro inviterer vi til gudstjeneste kl 11.00 i Peisestua på Langedrag\, Palmesøndag 20. mars.\n\nEtter gudstjenesten vil vi servere grillet villsvin fra gården med stekte båtpoteter\, grillede grønnsaker og salatbar ute på Ulveterrassen! Kafeen vil også være åpen fra kl. 11:00-17:00.\n\nPriser:\n\n\tGudstjenesten: gratis\n\tGrillmat med tilbehør\, spis så mye du orker: voksen 200\,- / barn 170\,-\n\tInngangsbilletter til parken vil komme i tillegg.\n\nVelkommen skal dere være til en hyggelig start på påsken!
URL:https://medlem.hanen.no/arrangement/gudstjeneste-pa-langedrag-pa-palmesondag/
LOCATION:Tunhov\, Nesbyen\, 3540
GEO:60.4610728;8.7633544
X-APPLE-STRUCTURED-LOCATION;VALUE=URI;X-ADDRESS=Tunhov Nesbyen 3540;X-APPLE-RADIUS=500;X-TITLE=Tunhov:geo:8.7633544,60.4610728
CATEGORIES:Buskerud
ATTACH;FMTTYPE=image/jpeg:https://medlem.hanen.no/wp-content/uploads/2016/03/Terrasse-2.jpg
ORGANIZER;CN="Langedrag%20Naturpark%20AS":MAILTO:post@langedrag.no
END:VEVENT
END:VCALENDAR