BEGIN:VCALENDAR
VERSION:2.0
PRODID:-//HANEN - ECPv4.3.2//NONSGML v1.0//EN
CALSCALE:GREGORIAN
METHOD:PUBLISH
X-WR-CALNAME:HANEN
X-ORIGINAL-URL:https://medlem.hanen.no
X-WR-CALDESC:Events for HANEN
BEGIN:VEVENT
DTSTART;TZID=Europe/Oslo:20150331T190000
DTEND;TZID=Europe/Oslo:20150331T230000
DTSTAMP:20260420T082612
CREATED:20150313T083954Z
LAST-MODIFIED:20150313T083954Z
UID:2341-1427828400-1427842800@medlem.hanen.no
SUMMARY: Gjestespill med M/S Bjørnvåg
DESCRIPTION:Vi får storfint besøk fra restaurantbåten M/S Bjørnvåg\, som til daglig ligger i Trondheim!Kjøkkensjef Eivind Austad & Co tar løs fra byen\, og kommer hit for å lage sine lekre retter. Eivind fikk i årene 2008-2010 et unikt innblikk i det japanske kaiseki-kjøkkenet\, som har røtter helt tilbake til 1600-tallet\, og denne erfaringen gjør at han har en spesiell tilnærming i byssa.Han bruker også mye tang og tare fra Stokkøya i sin matlaging\, og hva passer vel bedre enn at han får ta over kjøkkenet på Strandbaren til vårt årlige påske-gjestespill? Dessuten kommer han og kona direkte fra reise i Japan\, og har frisk inspirasjon og spennende råvarer med seg i kofferten til påske. \n\nVi har begrenset antall plasser til denne kvelden\, og har derfor bordreservering.\n\nKr. 700\,- per pers for flereretters meny med mange spennende smaker gjort på gjennomført vis...\n\n(Ytterligere presentasjon kommer når kokken er klar!)\n\nBooking til post@stokkoy.no.
URL:https://medlem.hanen.no/arrangement/gjestespill-med-ms-bjornvag/
LOCATION:Troningsveien 7\, Stokkøy \, Sør trøndelag\, 7178\, Norge
GEO:64.072376;10.003975
X-APPLE-STRUCTURED-LOCATION;VALUE=URI;X-ADDRESS=Troningsveien 7 Stokkøy  Sør trøndelag 7178 Norge;X-APPLE-RADIUS=500;X-TITLE=Troningsveien 7:geo:10.003975,64.072376
CATEGORIES:Sør-Trøndelag
ATTACH;FMTTYPE=image/jpeg:https://medlem.hanen.no/wp-content/uploads/2015/03/10341557_801867153225496_5486279228487314725_n.jpg
ORGANIZER;CN="Stokk%C3%B8ya%20Sj%C3%B8senter%20":MAILTO:post@stokkoy.no
END:VEVENT
END:VCALENDAR