BEGIN:VCALENDAR
VERSION:2.0
PRODID:-//HANEN - ECPv4.3.2//NONSGML v1.0//EN
CALSCALE:GREGORIAN
METHOD:PUBLISH
X-WR-CALNAME:HANEN
X-ORIGINAL-URL:https://medlem.hanen.no
X-WR-CALDESC:Events for HANEN
BEGIN:VEVENT
DTSTART;TZID=Europe/Oslo:20150627T140000
DTEND;TZID=Europe/Oslo:20150628T020000
DTSTAMP:20260420T083436
CREATED:20150608T113334Z
LAST-MODIFIED:20150608T113334Z
UID:12410-1435413600-1435456800@medlem.hanen.no
SUMMARY:Gardimylljå
DESCRIPTION:Som del av Gardimylljå under Midtsommardagar\, står grillgutta for den årvisse grillinga - i år i hagen til Petrines kl. 14-18. Det vert klassiske rettar som "laks i folie" og "kotelett"\, og kanskje noko nytt av året :-)\n\nFrå kl. 22 vert det dans i hagen! Vi har sjølvsagt pub og sikkert noko å ete frå grillen så lenge han er varm utover kvelden.\n\nInngang på dansen: 200\,-\nOBS: Det vert ingen parkering på Petrines laurdagen\, sidan vi fyller plassen med danseplass og grill! Parker på anviste plassar ved fjorden (eller kom med sykkel...).\n\nSjå programmet for heile helga her.
URL:https://medlem.hanen.no/arrangement/gardimyllja/
LOCATION:Relling\, Norddal\, 6214 
GEO:62.2481879;7.2375702
X-APPLE-STRUCTURED-LOCATION;VALUE=URI;X-ADDRESS=Relling Norddal 6214;X-APPLE-RADIUS=500;X-TITLE=Relling:geo:7.2375702,62.2481879
CATEGORIES:Møre og Romsdal
ATTACH;FMTTYPE=image/jpeg:https://medlem.hanen.no/wp-content/uploads/2015/06/11416205_771331082964811_5420628771957666854_n.jpg
ORGANIZER;CN="Petrines%20Gjestgiveri":MAILTO:petrines@petrinesg.no
END:VEVENT
END:VCALENDAR