BEGIN:VCALENDAR
VERSION:2.0
PRODID:-//HANEN - ECPv4.3.2//NONSGML v1.0//EN
CALSCALE:GREGORIAN
METHOD:PUBLISH
X-WR-CALNAME:HANEN
X-ORIGINAL-URL:https://medlem.hanen.no
X-WR-CALDESC:Events for HANEN
BEGIN:VEVENT
DTSTART;TZID=Europe/Oslo:20170721T193000
DTEND;TZID=Europe/Oslo:20170721T193000
DTSTAMP:20260421T101836
CREATED:20170420T080157Z
LAST-MODIFIED:20170420T080157Z
UID:18424-1500665400-1500665400@medlem.hanen.no
SUMMARY:Frida Fredrikke Waaler Wærvågen\, cello & Ingrid Andsnes\, klaver
DESCRIPTION:Konsert:\n\nDavid Monrad-Johansen: Suite op. 24 for cello og klaver.\nEdvard Grieg: utvalgte stykker for klaver\nEdvard Grieg: Sonate for cello og klaver op. 36\n\nLes mer
URL:https://medlem.hanen.no/arrangement/frida-fredrikke-waaler-waervagen-cello-ingrid-andsnes-klaver/
LOCATION:Postboks 235\, Rosendal\, 5486 
CATEGORIES:Hordaland
ATTACH;FMTTYPE=image/png:https://medlem.hanen.no/wp-content/uploads/2017/04/Fredrikke.png
END:VEVENT
END:VCALENDAR