BEGIN:VCALENDAR
VERSION:2.0
PRODID:-//HANEN - ECPv4.3.2//NONSGML v1.0//EN
CALSCALE:GREGORIAN
METHOD:PUBLISH
X-WR-CALNAME:HANEN
X-ORIGINAL-URL:https://medlem.hanen.no
X-WR-CALDESC:Events for HANEN
BEGIN:VEVENT
DTSTART;TZID=Europe/Oslo:20161029T120000
DTEND;TZID=Europe/Oslo:20161030T020000
DTSTAMP:20260421T083930
CREATED:20161019T085227Z
LAST-MODIFIED:20161019T085227Z
UID:17134-1477742400-1477792800@medlem.hanen.no
SUMMARY:Fra skog til bord
DESCRIPTION:Det er ikke all mat som er innom en butikk. Vær med på en lærerik syklus – røyking av laks\, skyting\, opstykking av vilt og matlaging.\n\nNorske jegere og sankere får i løpet av høstjakten tilgang til fantastiske og sunne matressurser. Kortreist sunt kjøtt som kan forvandles til nydelige festmåltider eller velsmakende hverdagsmat. Bli med og delta på hele prosessen fra forberedelse av flotte råvarer til de er på bordet og du kan nyte maten i godt selskap. I løpet av dagen vil du få anledning til å delta på mange ulike aktiviteter og kvelden avsluttes med et festmåltid som du er med å lage i stand - Dette blir sjow !\n\nPåmelding til Tore Skogen på 91558330
URL:https://medlem.hanen.no/arrangement/fra-skog-til-bord/
LOCATION:Nesheim\, Nedre Vats\, 5578
GEO:59.49969;5.71756
X-APPLE-STRUCTURED-LOCATION;VALUE=URI;X-ADDRESS=Nesheim Nedre Vats 5578;X-APPLE-RADIUS=500;X-TITLE=Nesheim:geo:5.71756,59.49969
CATEGORIES:Rogaland
ATTACH;FMTTYPE=image/jpeg:https://medlem.hanen.no/wp-content/uploads/2016/10/nes.jpg
ORGANIZER;CN="Nesheimstunet":MAILTO:post@nesheimstunet.no
END:VEVENT
END:VCALENDAR