BEGIN:VCALENDAR
VERSION:2.0
PRODID:-//HANEN - ECPv4.3.2//NONSGML v1.0//EN
CALSCALE:GREGORIAN
METHOD:PUBLISH
X-WR-CALNAME:HANEN
X-ORIGINAL-URL:https://medlem.hanen.no
X-WR-CALDESC:Events for HANEN
BEGIN:VEVENT
DTSTART;VALUE=DATE:20161125
DTEND;VALUE=DATE:20161127
DTSTAMP:20260421T095553
CREATED:20160905T064225Z
LAST-MODIFIED:20160905T064225Z
UID:16752-1480032000-1480291199@medlem.hanen.no
SUMMARY:Førjulshelg på Langedrag
DESCRIPTION:Denne helgen kan du være med på stemningsfulle dager med førjulsaktiviteter. Det myldrer av liv i stall og fjøs og alle dyrene har fått vinterpelsen på.\n\nAktiviteter som er inkludert i denne førjulspakken: \n\n-Juleverksted\n\n-Historiefortelling foran peisen\n\n-Stell og kos hos dyrene\n\n-Nissespill og grøt på låven\n\n-Fòring og omvisning av moskus\, villsvin og elg\n\n-Fòring og omvisning av ulv\, gaupe\, sosialisert ulv\, fjellrev og reinsdyr\n\nEkstra aktiviteter: \n\n-Snørekjøring med hest\n\n-Hundekjøring\n\n-Kanefart\n\n-Fjellrev-camp\n\n-Bli med inn til ulv og gaupe\n\n-Ridetur i fjellet\n\n-Runderiding for barn mm.
URL:https://medlem.hanen.no/arrangement/forjulshelg-pa-langedrag/
LOCATION:Tunhov\, Nesbyen\, 3540
GEO:60.4610728;8.7633544
X-APPLE-STRUCTURED-LOCATION;VALUE=URI;X-ADDRESS=Tunhov Nesbyen 3540;X-APPLE-RADIUS=500;X-TITLE=Tunhov:geo:8.7633544,60.4610728
CATEGORIES:Buskerud
ATTACH;FMTTYPE=image/jpeg:https://medlem.hanen.no/wp-content/uploads/2016/09/TuvaogNissejenteneogHesten.jpg
ORGANIZER;CN="Langedrag%20Naturpark%20AS":MAILTO:post@langedrag.no
END:VEVENT
END:VCALENDAR