BEGIN:VCALENDAR
VERSION:2.0
PRODID:-//HANEN - ECPv4.3.2//NONSGML v1.0//EN
CALSCALE:GREGORIAN
METHOD:PUBLISH
X-WR-CALNAME:HANEN
X-ORIGINAL-URL:https://medlem.hanen.no
X-WR-CALDESC:Events for HANEN
BEGIN:VEVENT
DTSTART;TZID=Europe/Oslo:20170406T190000
DTEND;TZID=Europe/Oslo:20170406T213000
DTSTAMP:20260421T102428
CREATED:20170331T085838Z
LAST-MODIFIED:20170331T085838Z
UID:18205-1491505200-1491514200@medlem.hanen.no
SUMMARY:Foredrag med Helen Fredholm. Cottage Gardening.
DESCRIPTION:Cottage Gardening er en frodig\, fargerik og duftende hagestil. Den er ikke så krevende og arbeidsom som mange kanskje tror. Ved å spille på lag med naturen\, være raus og ikke følge tradisjonelle normer for hagestell\, får du en hage der både du\, planter \, dyr og fugler trives. Kom og lær hvordan du kan lage din egen Cottage Garden.\nInngang og servering kafe\, kake og kveldsmat kr 350 .-\nPåmelding til Helen Fredholm tlf 90061937\, påmeldingsfrist 3 april.
URL:https://medlem.hanen.no/arrangement/foredrag-med-helen-fredholm-cottage-gardening/
LOCATION:Steindalen 53\, Skreia\, 2848 
GEO:60.6461978;10.9878859
X-APPLE-STRUCTURED-LOCATION;VALUE=URI;X-ADDRESS=Steindalen 53 Skreia 2848;X-APPLE-RADIUS=500;X-TITLE=Steindalen 53:geo:10.9878859,60.6461978
CATEGORIES:Oppland
ATTACH;FMTTYPE=image/jpeg:https://medlem.hanen.no/wp-content/uploads/2017/03/tot.jpg
ORGANIZER;CN="Totenvika%20Galleri%20og%20Kulturkaf%C3%A9":MAILTO:kontakt@erikottarhansen.no
END:VEVENT
END:VCALENDAR