BEGIN:VCALENDAR
VERSION:2.0
PRODID:-//HANEN - ECPv4.3.2//NONSGML v1.0//EN
CALSCALE:GREGORIAN
METHOD:PUBLISH
X-WR-CALNAME:HANEN
X-ORIGINAL-URL:https://medlem.hanen.no
X-WR-CALDESC:Events for HANEN
BEGIN:VEVENT
DTSTART;VALUE=DATE:20151030
DTEND;VALUE=DATE:20151101
DTSTAMP:20260420T084152
CREATED:20150706T122723Z
LAST-MODIFIED:20150706T122820Z
UID:12726-1446163200-1446422399@medlem.hanen.no
SUMMARY:Fotokurs på Venabu fjellhotell
DESCRIPTION:Siste helgen i oktober er en flott anledning til å oppleve fjellet i endring. Overgangen mellom høst og vinter gir nye og dramatiske motiver. Med klar luft og god sikt ligger det til rette for å fange imponerende landskapsmotiver. Vi vil denne helgen være både inne og ute og se på ulike teknikker som kan gjøre deg til en bedre fotograf. Vi vil også se på blits og portrettfotografering\, - og på hvordan denne kan brukes på ulike kreative måter. Grunnleggende teknikk vil bli gjennomgått\, men vi vil legge hovedfokus på bildetagning og kreativ og bevisst fotografering ute i terrenget. Det blir oppgaver og bildegjennomgang og litt tips og triks i Photoshop som kan være greit å ta med seg. Høstlandskapet innbyr også til å fotografere de små motiver\, så det blir mange utfordringer for deltagerne. Ta deg en tur på fjellet på senhøsten\, - det vil gi deg ny inspirasjon til spennende motiver og en oppladning før vinteren igjen trekker inn.\n\nPris for høstkurset er kr. 4.200\,- inkludert oppholdet.
URL:https://medlem.hanen.no/arrangement/fookurs-pa-venabu-fjellhotell/
LOCATION:Venabygd\, Oppland\, 2632\, Norge
GEO:61.593088;10.0523544
CATEGORIES:Oppland
ATTACH;FMTTYPE=image/jpeg:https://medlem.hanen.no/wp-content/uploads/2015/07/Mona-og-Flaksjøen_resize.jpg
ORGANIZER;CN="Venabu%20Fjellhotell":MAILTO:venabu@venabu.no
END:VEVENT
END:VCALENDAR