BEGIN:VCALENDAR
VERSION:2.0
PRODID:-//HANEN - ECPv4.3.2//NONSGML v1.0//EN
CALSCALE:GREGORIAN
METHOD:PUBLISH
X-WR-CALNAME:HANEN
X-ORIGINAL-URL:https://medlem.hanen.no
X-WR-CALDESC:Events for HANEN
BEGIN:VEVENT
DTSTART;TZID=Europe/Oslo:20170413T190000
DTEND;TZID=Europe/Oslo:20170413T190000
DTSTAMP:20260421T101845
CREATED:20170403T063546Z
LAST-MODIFIED:20170403T063546Z
UID:18226-1492110000-1492110000@medlem.hanen.no
SUMMARY:Foodies kvizz m/ ny vri på Skjærtorsda'n
DESCRIPTION:Alexander Arneson Sundseth er ny kvizzmaster og vil by på 30 spørsmål fordelt på 3 runder.\nDet blir denne gangen god bruk for smaksløkene.\nVanlige kvissregler og premiering\nVelkommen
URL:https://medlem.hanen.no/arrangement/foodies-kvizz-m-ny-vri-pa-skjaertorsdan/
LOCATION:Nervikvegen 94\, Mosvik\, 7690\, Norge
GEO:63.817688;11.005812
X-APPLE-STRUCTURED-LOCATION;VALUE=URI;X-ADDRESS=Nervikvegen 94 Mosvik 7690 Norge;X-APPLE-RADIUS=500;X-TITLE=Nervikvegen 94:geo:11.005812,63.817688
CATEGORIES:Nord-Trøndelag
ATTACH;FMTTYPE=image/jpeg:https://medlem.hanen.no/wp-content/uploads/2017/04/mos.jpg
ORGANIZER;CN="Mosvik%20Brygge":MAILTO:post@mosvikbrygge.no
END:VEVENT
END:VCALENDAR