BEGIN:VCALENDAR
VERSION:2.0
PRODID:-//HANEN - ECPv4.3.2//NONSGML v1.0//EN
CALSCALE:GREGORIAN
METHOD:PUBLISH
X-WR-CALNAME:HANEN
X-ORIGINAL-URL:https://medlem.hanen.no
X-WR-CALDESC:Events for HANEN
BEGIN:VEVENT
DTSTART;TZID=Europe/Oslo:20250530T170000
DTEND;TZID=Europe/Oslo:20250601T120000
DTSTAMP:20260420T100851
CREATED:20250505T135357Z
LAST-MODIFIED:20250505T135357Z
UID:44422-1748624400-1748779200@medlem.hanen.no
SUMMARY:Flåklypa Grand Prix 2025
DESCRIPTION:  Fjelleventyrets Flåklypa Grand Prix pakke  \n\nOvernatting weekend fra Fredag til SøndagFredagstapas kl 20:00Frokost lørdag før Flåklypa Grand PrixMiddag lørdag 3 retter kl 20:00Søndag frokost\, vel hjem\n\nPris 4980 kroner enkeltrom weekendpakkePris dobbelt rom 4300 kr pr person weekendpakkePris familierom 3-4 personer 3900 kr pr person weekendpakke\n\nHer bor du i høgstandard rom med god plass til bilen din rett utenfor. God plass om du også kommer med veteranbilen på henger.Du får egen parkeringsplass.Du inviteres inn til vårt hyggelige spiseri med god mat og hygge.\n\nVelkommen til Fjelleventyret\n\nVi ligger litt utenfor Lom\,men langs løypa og har de siste årene vært en populær plass for Flåklypafolket\n\n Flåklypavelkomst på rommet\nSend forespørsel på booking tilHanne@fjelleventyret.noHer får du egen Flåklypapakke\n\nV E L K O M M E N !
URL:https://medlem.hanen.no/arrangement/flaklypa-grand-prix-2025/
LOCATION:Vassgangen 24\, Skjåk\, 2690\, Norge
ATTACH;FMTTYPE=image/jpeg:https://medlem.hanen.no/wp-content/uploads/2025/05/Flaklypa_Fjelleventyret.jpg
ORGANIZER;CN="Fjell%20Eventyret":MAILTO:post@fjelleventyret.no
END:VEVENT
END:VCALENDAR