BEGIN:VCALENDAR
VERSION:2.0
PRODID:-//HANEN - ECPv4.3.2//NONSGML v1.0//EN
CALSCALE:GREGORIAN
METHOD:PUBLISH
X-WR-CALNAME:HANEN
X-ORIGINAL-URL:https://medlem.hanen.no
X-WR-CALDESC:Events for HANEN
BEGIN:VEVENT
DTSTART;VALUE=DATE:20170810
DTEND;VALUE=DATE:20170813
DTSTAMP:20260421T083730
CREATED:20170427T092132Z
LAST-MODIFIED:20170427T092132Z
UID:18729-1502323200-1502668799@medlem.hanen.no
SUMMARY:Fauskivalen 2017
DESCRIPTION:Fauskivalen i Hemsedal er ein årleg møtestad for rocka folkemusikk og folkeleg rockemusikk. Årets festival har ein styrka ungdomsprofil og me inviterer til open scene for å presentere nye talent. I samspel med bygda er festivalen open for alle. God sjangermix med noko for ein kvar smak. Open for alle.\n\nLer mer om Fauskivalen
URL:https://medlem.hanen.no/arrangement/fauskivalen-2017/
LOCATION:Hemsedal\, 3560\, Norge
CATEGORIES:Buskerud
ATTACH;FMTTYPE=application/pdf:https://medlem.hanen.no/wp-content/uploads/2017/04/Fauskivalen-2017-folder.pdf
ORGANIZER;CN="Fausko%20Skysstasjon":MAILTO:knut@fausko.no
END:VEVENT
END:VCALENDAR