BEGIN:VCALENDAR
VERSION:2.0
PRODID:-//HANEN - ECPv4.3.2//NONSGML v1.0//EN
CALSCALE:GREGORIAN
METHOD:PUBLISH
X-WR-CALNAME:HANEN
X-ORIGINAL-URL:https://medlem.hanen.no
X-WR-CALDESC:Events for HANEN
BEGIN:VEVENT
DTSTART;TZID=Europe/Oslo:20170723T170000
DTEND;TZID=Europe/Oslo:20170723T170000
DTSTAMP:20260421T104001
CREATED:20170420T080915Z
LAST-MODIFIED:20170420T080915Z
UID:18428-1500829200-1500829200@medlem.hanen.no
SUMMARY:Eivind H Ringstad\, bratsj & Thormod R Kvam\, klaver
DESCRIPTION:Konsert\n\nLes mer
URL:https://medlem.hanen.no/arrangement/eivind-h-ringstad-bratsj-thormod-r-kvam-klaver/
LOCATION:Postboks 235\, Rosendal\, 5486 
CATEGORIES:Hordaland
ATTACH;FMTTYPE=image/png:https://medlem.hanen.no/wp-content/uploads/2017/04/Ringstad.png
END:VEVENT
END:VCALENDAR