BEGIN:VCALENDAR
VERSION:2.0
PRODID:-//HANEN - ECPv4.3.2//NONSGML v1.0//EN
CALSCALE:GREGORIAN
METHOD:PUBLISH
X-WR-CALNAME:HANEN
X-ORIGINAL-URL:https://medlem.hanen.no
X-WR-CALDESC:Events for HANEN
BEGIN:VEVENT
DTSTART;TZID=Europe/Oslo:20150808T130000
DTEND;TZID=Europe/Oslo:20150808T150000
DTSTAMP:20260420T095223
CREATED:20150628T141049Z
LAST-MODIFIED:20150628T142637Z
UID:12610-1439038800-1439046000@medlem.hanen.no
SUMMARY:Dukketeateret Kaspar
DESCRIPTION:Baroniet i Rosendal har to forestillinger arrangert av Dukketeateret Kaspar 8.august 2015!\n\nkl. 13.00: Det spøker på Rosendal\nKl. 14.00: Kaspar og den lille løven Simba\n\nLes mer
URL:https://medlem.hanen.no/arrangement/dukketeateret-kaspar/
LOCATION:Postboks 235\, Rosendal\, 5486 
CATEGORIES:Hordaland
ATTACH;FMTTYPE=image/jpeg:https://medlem.hanen.no/wp-content/uploads/2015/06/DukketeateretKaspar.jpg
END:VEVENT
END:VCALENDAR