BEGIN:VCALENDAR
VERSION:2.0
PRODID:-//HANEN - ECPv4.3.2//NONSGML v1.0//EN
CALSCALE:GREGORIAN
METHOD:PUBLISH
X-WR-CALNAME:HANEN
X-ORIGINAL-URL:https://medlem.hanen.no
X-WR-CALDESC:Events for HANEN
BEGIN:VEVENT
DTSTART;TZID=Europe/Oslo:20220806T210000
DTEND;TZID=Europe/Oslo:20220806T210000
DTSTAMP:20260421T084030
CREATED:20220624T101118Z
LAST-MODIFIED:20220624T101158Z
UID:33358-1659819600-1659819600@medlem.hanen.no
SUMMARY:Dølarockens festkveld 06.08.22 På Rudi Gard
DESCRIPTION:Dølarock er fellesarv med fanskare frå dei yngste til dei eldste.\n\nMed eit stort felles repertoar er det ikkje langt etter allsang og glede. Denne kvelden kjem BAKSIA med unge solister\, Hillbabies og Arild Skar med band.
URL:https://medlem.hanen.no/arrangement/dolarockens-festkveld-06-08-22/
LOCATION:Øvre Rudi\, Sør-Fron\, 2647\, Norge
GEO:61.4797868;9.9273755
X-APPLE-STRUCTURED-LOCATION;VALUE=URI;X-ADDRESS=Øvre Rudi Sør-Fron 2647 Norge;X-APPLE-RADIUS=500;X-TITLE=Øvre Rudi:geo:9.9273755,61.4797868
CATEGORIES:Innlandet
ATTACH;FMTTYPE=image/jpeg:https://medlem.hanen.no/wp-content/uploads/2022/06/webprudi_20180809_8816_foto_tor_ivan_boine.jpg
ORGANIZER;CN="Rudi%20Gard":MAILTO:oystein@rudigard.no
END:VEVENT
END:VCALENDAR