BEGIN:VCALENDAR
VERSION:2.0
PRODID:-//HANEN - ECPv4.3.2//NONSGML v1.0//EN
CALSCALE:GREGORIAN
METHOD:PUBLISH
X-WR-CALNAME:HANEN
X-ORIGINAL-URL:https://medlem.hanen.no
X-WR-CALDESC:Events for HANEN
BEGIN:VEVENT
DTSTART;TZID=Europe/Oslo:20170730T160000
DTEND;TZID=Europe/Oslo:20170730T160000
DTSTAMP:20260421T084132
CREATED:20170420T083129Z
LAST-MODIFIED:20170420T083129Z
UID:18438-1501430400-1501430400@medlem.hanen.no
SUMMARY:De Unges Orkesterforbund i Hordaland
DESCRIPTION:Avslutningskonsert for Sommerskolen på Halsnøy i regi av De Unges Orkesterforbund i Hordaland.\n\nLes mer
URL:https://medlem.hanen.no/arrangement/de-unges-orkesterforbund-i-hordaland/
LOCATION:Postboks 235\, Rosendal\, 5486 
CATEGORIES:Hordaland
ATTACH;FMTTYPE=image/png:https://medlem.hanen.no/wp-content/uploads/2017/04/UNOF.png
END:VEVENT
END:VCALENDAR