BEGIN:VCALENDAR
VERSION:2.0
PRODID:-//HANEN - ECPv4.3.2//NONSGML v1.0//EN
CALSCALE:GREGORIAN
METHOD:PUBLISH
X-WR-CALNAME:HANEN
X-ORIGINAL-URL:https://medlem.hanen.no
X-WR-CALDESC:Events for HANEN
BEGIN:VEVENT
DTSTART;TZID=Europe/Oslo:20170610T190000
DTEND;TZID=Europe/Oslo:20170610T190000
DTSTAMP:20260421T091721
CREATED:20170419T135412Z
LAST-MODIFIED:20170420T062725Z
UID:18383-1497121200-1497121200@medlem.hanen.no
SUMMARY:Dag Lyngar\, forfattar og roseekspert
DESCRIPTION:Foredrag: Rosene har noe spesielt å fortelle oss. Om historie\, myter og sagn - deres egenskaper med dufter\, form og farger - og hvordan vi lykkes med rosene.\n\nBilletter og priser
URL:https://medlem.hanen.no/arrangement/dag-lyngar-forfattar-og-roseekspert/
LOCATION:Postboks 235\, Rosendal\, 5486 
CATEGORIES:Hordaland
ATTACH;FMTTYPE=image/png:https://medlem.hanen.no/wp-content/uploads/2017/04/Dag-Lyngar.png
END:VEVENT
END:VCALENDAR