BEGIN:VCALENDAR
VERSION:2.0
PRODID:-//HANEN - ECPv4.3.2//NONSGML v1.0//EN
CALSCALE:GREGORIAN
METHOD:PUBLISH
X-WR-CALNAME:HANEN
X-ORIGINAL-URL:https://medlem.hanen.no
X-WR-CALDESC:Events for HANEN
BEGIN:VEVENT
DTSTART;TZID=Europe/Oslo:20150613T180000
DTEND;TZID=Europe/Oslo:20150613T230000
DTSTAMP:20260420T082539
CREATED:20150521T113314Z
LAST-MODIFIED:20150521T113314Z
UID:12195-1434218400-1434236400@medlem.hanen.no
SUMMARY:Champagne & mat - en reise i smaksopplevelser
DESCRIPTION:Kveldens hovedgjest er Champagne! De fleste kjenner til champagner som kommer fra de store husene\, Moet & Chandon\, Louis Roederer\, Veuve Clicot etc. Det som er mindre kjent er de såkalte co-operativene; lokale druedyrkere som har slått seg sammen om en felles produksjonsenhet. Co-operativene kommer litt i skyggen av de store champagnehusene\, men titter vi nærmere på de\, vil vi finne høyverdige champagner - ofte til svært fordelaktige priser. Selv om Vinmonopolet er dyktige til å ta inn småprodusenter i sitt utvalg\, er det fortsatt noe ukjent mark her i Norge. Så denne kvelden vil fokuset være på champagner fra småprodusenter og co-operativer.\n\nVi skal teste champagner fra 5 forskjellige co-operativ i løpet av kvelden:\n\nMailly\, Palmer\, Paul Goerg\, Pannier og Saint-Gall.\n\nTilsammen vil du bli servert 10 glass champagne. Som reisefølge serverer vi økologisk og lokal mat fra Vestfolds fantastiske spiskammers.\n\nKveldens champagnevert er Per-Arne Gulbrandsen. Han har vært opptatt av champagne i mange år - både geografien\, historien\, produksjonen\, markedet og smaksopplevelsen. Per-Arne jobber som leder i Sverige for et internasjonalt selskap. Han er cand. jur fra UiO 1987.\n\nDenne kvelden stiller vi med hente-bringe service for de som bor i Re\, Tønsberg\, Horten eller Homestrand. Det er også mulig å bestille overnatting i vårt\, lille Bed & Breakfast. Denne kvelden tar vi i mot 20 gjester så vær rask til å bestille bord og eventuelt transport.\n\nKvelden koster kr 1490 kr. Transport kommer i tillegg.\n\nPåmelding. For mer info sjekk www.sukkegard.no\n\nVelkommen!
URL:https://medlem.hanen.no/arrangement/champagne-mat-en-reise-i-smaksopplevelser/
LOCATION:Kjønnerødveien 251\, Ramnes i Vestfold\, Ramnes\, 3175\, Norge
GEO:59.3849681;10.2021372
X-APPLE-STRUCTURED-LOCATION;VALUE=URI;X-ADDRESS=Kjønnerødveien 251 Ramnes i Vestfold Ramnes 3175 Norge;X-APPLE-RADIUS=500;X-TITLE=Kjønnerødveien 251:geo:10.2021372,59.3849681
CATEGORIES:Vestfold
ATTACH;FMTTYPE=image/jpeg:https://medlem.hanen.no/wp-content/uploads/2015/05/DSC_0392.jpg
ORGANIZER;CN="%C3%98vre%20Sukke%20G%C3%A5rd":MAILTO:post@sukkegard.no
END:VEVENT
END:VCALENDAR