BEGIN:VCALENDAR
VERSION:2.0
PRODID:-//HANEN - ECPv4.3.2//NONSGML v1.0//EN
CALSCALE:GREGORIAN
METHOD:PUBLISH
X-WR-CALNAME:HANEN
X-ORIGINAL-URL:https://medlem.hanen.no
X-WR-CALDESC:Events for HANEN
BEGIN:VEVENT
DTSTART;TZID=Europe/Oslo:20160718T130000
DTEND;TZID=Europe/Oslo:20160724T140000
DTSTAMP:20260421T084315
CREATED:20160523T135329Z
LAST-MODIFIED:20160523T135336Z
UID:15093-1468846800-1469368800@medlem.hanen.no
SUMMARY:Camp Wild\, villmarksleiren for deg i alderen 11 – 14 år
DESCRIPTION:Camp Wild er leiren for deg som ønsker å sove ute under stjernehimmelen og få nye opplevelser og erfaringer hver dag.\n\nLeiren varer en uke og i løpet av denne uka skal vi ta deg med på en rundtur i Rendalen kommune. Leiren varer en uke og det er ledige plasser i uke 28 og 29 denne sommeren!\n\nVi har mange aktiviteter og du vil få oppleve\, topptur\, overnatting under åpen himmel\, skyting med pil og bue\, slakk line\, hinderløype\, zipline\, padling og mye mer.\n\nLeiren passer alle da den er basert på et allsidig aktivitetstilbud og vi tilpasser nivået på turene etter deltagernes fysiske ferdigheter.\n\nSjekk ut mer på vår hjemmeside\n
URL:https://medlem.hanen.no/arrangement/camp-wild-villmarksleiren-for-deg-i-alderen-11-14-ar-2/2016-07-18/
LOCATION:Hanestadveien 1735\, Hanestad\, 2478
GEO:61.8377607;10.8800633
X-APPLE-STRUCTURED-LOCATION;VALUE=URI;X-ADDRESS=Hanestadveien 1735 Hanestad 2478;X-APPLE-RADIUS=500;X-TITLE=Hanestadveien 1735:geo:10.8800633,61.8377607
CATEGORIES:Hedmark
ATTACH;FMTTYPE=image/jpeg:https://medlem.hanen.no/wp-content/uploads/2016/05/1CampWildLogoCMYK.jpg
ORGANIZER;CN="Bj%C3%B8ntegaard%20Leirskole%20og%20Leirsted":MAILTO:leirskole@bjontegaard.no
END:VEVENT
END:VCALENDAR