BEGIN:VCALENDAR
VERSION:2.0
PRODID:-//HANEN - ECPv4.3.2//NONSGML v1.0//EN
CALSCALE:GREGORIAN
METHOD:PUBLISH
X-WR-CALNAME:HANEN
X-ORIGINAL-URL:https://medlem.hanen.no
X-WR-CALDESC:Events for HANEN
BEGIN:VEVENT
DTSTART;TZID=Europe/Oslo:20150605T110000
DTEND;TZID=Europe/Oslo:20150606T210000
DTSTAMP:20260420T084033
CREATED:20150427T082549Z
LAST-MODIFIED:20150603T122616Z
UID:2490-1433502000-1433624400@medlem.hanen.no
SUMMARY:Bygningsvern og matlaging på Ersgard
DESCRIPTION:\nDette blir en herlig kombinasjon av fag\, mat og avslapping.\nDet blir et stort og mangfoldig program men også god tid til å mingle.\n\nHvordan bo miljøvennlig og lønnsomt i gamle hus\, bruk av gamle hus til næringsutvikling\, bruk av og smaken av mat i vedfyrt bakerovn\, servering av lammelår og pærer tilberedt i mobil vedfyrt bakerovn\, nykvernet og nytrukket kaffe fra Langøra Kaffebrenneri\, historien til Stjørdalsølet \, servering av øl fra Klostergården håndbryggeri\, ung og frisk jazz fra Stellar og foto- og kunstutstilling for øye. Og om ikke det er nok. Salg av brød fra vedfyrt bakerovn og kaffeposer fra Langøra.\n\nFredag den 5. juni skjer det hele tre arrangementer på Ersgard. Det er mulig å kombinere alle tre. Men det er også mulig å melde seg på arrangementene enkeltvis.\n\nPå grunn av servering ønsker vi påmelding for workshop'n kl. 11 og middagen kl. 17 innen kl. 24 den 4. juni. For seminaret kl. 14 er det bare å møte opp. Priser og påmelding på https://ersgard.hoopla.no/sales/bygningsvern/ eller til post@ersgard.no\n\nArrangementene er åpent for ALLE. Arrangementet på fredag gjøres i samarbeid med Fortidsminneforeningen avd Sør-Innherred.\n\nFredag 5. juni\n11.00 - 14.00 Workshop med lunsj og utferd\nBjørge Sandberg-Kristoffersen fra Entelligens AS innleder om bærekraft og energibruk\, og Energiportalen som verktøy for planlegging. Befaring av hovedhuset på Veiset\, Elvran.\n\n14.00 - 17.00 Gamle hus som ressurs for næringsutvikling\nTre flotte foredrag med fokus på muligheter og bruk av gamle hus inn i fremtiden.\nElse "Sprossa" Rønnevig bidrar sterkt sammen med Kolbein Dahle fra Fortidsminneforeningen og Bjørge Sandberg-Kristoffersen fra Energiportalen og www.villadammen.no .\n\n15.00 - 15.30 Kunstpause\nÅpning av kunstutstillingen "Fortellinger" med Brit Paulsen og Thor Thorsen i Fjøset i Ersgard\nDet blir servert kringle bakt i vedfyrt bakerovnen og kaffe fra Langøra kaffebryggeri www.langorakaffe.no\n\n17.00 - 23.00 Matlaging\, middag og kveldskos i Fjøset\nDet blir vedovnsbakt lammelår med ungdommelig jazzband på kvelden. Fagfolket blir tilgjengelig for en prat. Jazzgruppa "Stellar" fra Ole Vig vgs. underholder.\nDet blir servert kaffe fra Langøra Kaffebrenneri og godt lokalt øl fra Klostergården Håndbryggeri\n\nLørdag 6 og søndag 7. juni:\nAud Vegerstøl holder Kurs i fyring og matlaging i vedfyrte bakerovner påErsgard. Kurset varer i 5 timer og koster 1000 kr. Maten som blir laget får dere selvfølgelig smake.\n\nKurset lørdag er fullt\, men det er fremdeles ledige plasser på søndag. Se egen omtale på Aud Vegerstøl sin side på FB https://www.facebook.com/events/563149207160291/\n\nPå Ersgard har vi også noen rom ledig\, så det er bare å ta kontakt på post@ersgard.no for overnatting i hovedlåna på gården vår.\n\nLaksesesongen har begynt\, og vi anbefaler fiskeinteresserte å sette av tid til å prøve seg i Stjørdalselva - Ersgard har eget laksevald.\n\nProgrammet blir oppdatert. Ta kontakt med oss for detaljer post@ersgard og tlf. 90187220\n\nVelkommen til gårds!
URL:https://medlem.hanen.no/arrangement/bygningsvern-og-matlaging-pa-ersgard/
LOCATION:Ersgard sør\, Stjørdal\, Sør-Trøndelag\, 7500\, Norge
GEO:63.449872;11.007509
X-APPLE-STRUCTURED-LOCATION;VALUE=URI;X-ADDRESS=Ersgard sør Stjørdal Sør-Trøndelag 7500 Norge;X-APPLE-RADIUS=500;X-TITLE=Ersgard sør:geo:11.007509,63.449872
CATEGORIES:Sør-Trøndelag
ATTACH;FMTTYPE=image/jpeg:https://medlem.hanen.no/wp-content/uploads/2015/04/11109568_10152889125462087_2412791197066154254_n.jpg
ORGANIZER;CN="Ersgard":MAILTO:grete@ersgard.no
END:VEVENT
END:VCALENDAR