BEGIN:VCALENDAR
VERSION:2.0
PRODID:-//HANEN - ECPv4.3.2//NONSGML v1.0//EN
CALSCALE:GREGORIAN
METHOD:PUBLISH
X-WR-CALNAME:HANEN
X-ORIGINAL-URL:https://medlem.hanen.no
X-WR-CALDESC:Events for HANEN
BEGIN:VEVENT
DTSTART;TZID=Europe/Oslo:20161029T150000
DTEND;TZID=Europe/Oslo:20161029T170000
DTSTAMP:20260421T101528
CREATED:20161021T103153Z
LAST-MODIFIED:20161021T103153Z
UID:17119-1477753200-1477760400@medlem.hanen.no
SUMMARY:Bokkafe med Thor Gootaas. Tema loffere/tatere.
DESCRIPTION:Thor Gootaas forteller om sin bok "På loffen"\nFor ikke så lenge siden var loffere og landstrykere et hverdagslig innslag på norske veier – loffertrekkene gikk på kryss og tvers over hele landet. Nå er disse landeveiens riddere forsvunnet uten å ha satt så mange spor etter seg.\n Denne boken er historien om vagabondene langs våre veier. Hvor de kom fra\, hvilke drømmer de hadde\, og hvordan det gikk med dem. Folkloristen Thor Gotaas nærmer seg disse menneskene med varme og innlevelse\, og krydrer framstillingen med anekdoter og historier.
URL:https://medlem.hanen.no/arrangement/bokkafe-med-thor-gootaas-tema-lofferetatere/
LOCATION:Steindalen 53\, Skreia\, 2848 
GEO:60.6461978;10.9878859
X-APPLE-STRUCTURED-LOCATION;VALUE=URI;X-ADDRESS=Steindalen 53 Skreia 2848;X-APPLE-RADIUS=500;X-TITLE=Steindalen 53:geo:10.9878859,60.6461978
CATEGORIES:Oppland
ATTACH;FMTTYPE=image/jpeg:https://medlem.hanen.no/wp-content/uploads/2016/10/gootaas.jpg
ORGANIZER;CN="Totenvika%20Galleri%20og%20Kulturkaf%C3%A9":MAILTO:kontakt@erikottarhansen.no
END:VEVENT
END:VCALENDAR