BEGIN:VCALENDAR
VERSION:2.0
PRODID:-//HANEN - ECPv4.3.2//NONSGML v1.0//EN
CALSCALE:GREGORIAN
METHOD:PUBLISH
X-WR-CALNAME:HANEN
X-ORIGINAL-URL:https://medlem.hanen.no
X-WR-CALDESC:Events for HANEN
BEGIN:VEVENT
DTSTART;TZID=Europe/Oslo:20160601T190000
DTEND;TZID=Europe/Oslo:20160601T210000
DTSTAMP:20260421T095346
CREATED:20160530T102900Z
LAST-MODIFIED:20160530T103015Z
UID:15272-1464807600-1464814800@medlem.hanen.no
SUMMARY:Bok i Parken
DESCRIPTION:I anledning utgivelsen av boken «Samisk reindrift – Norske myter» inviterer vi til Bok i Parken.\nReindrift har et dårlig rykte i Norge\, og det har lenge blitt hevdet at det er for mange rein i Finnmark\, og at dette går utover lavmattene på vidda\, produktiviteten i næringen og dyrevelferden.\n\nKveldens bok drøfter forestillinger og realiteter om samisk reindrift.\n\nMer informasjon og billetter
URL:https://medlem.hanen.no/arrangement/bok-i-parken-2/
LOCATION:Fredrik A. Dahls Vei\,\, Ås\, 1430\, Norge
GEO:59.6674572;10.7684186
X-APPLE-STRUCTURED-LOCATION;VALUE=URI;X-ADDRESS=Fredrik A. Dahls Vei Ås 1430 Norge;X-APPLE-RADIUS=500;X-TITLE=Fredrik A. Dahls Vei\,:geo:10.7684186,59.6674572
CATEGORIES:Akershus
ATTACH;FMTTYPE=image/jpeg:https://medlem.hanen.no/wp-content/uploads/2016/05/Skjermbilde-20.jpg
ORGANIZER;CN="Vitenparken%2C%20Campus%20%C3%85s":MAILTO:resepsjon@vitenparken.no
END:VEVENT
END:VCALENDAR