BEGIN:VCALENDAR
VERSION:2.0
PRODID:-//HANEN - ECPv4.3.2//NONSGML v1.0//EN
CALSCALE:GREGORIAN
METHOD:PUBLISH
X-WR-CALNAME:HANEN
X-ORIGINAL-URL:https://medlem.hanen.no
X-WR-CALDESC:Events for HANEN
BEGIN:VEVENT
DTSTART;VALUE=DATE:20170812
DTEND;VALUE=DATE:20170812
DTSTAMP:20260421T083419
CREATED:20170515T084559Z
LAST-MODIFIED:20170515T105642Z
UID:19218-1502496000-1502582399@medlem.hanen.no
SUMMARY:Bergsdalsblues
DESCRIPTION:Store musikkopplevingar på Bergsdalstunet igjen!\n\nTrond Olsen Band - Vestlandsblues av ypperste klasse\nMIke Andersen - Danmarks fremste bluesmusikar\nJT Lauritsen and the Buckshot Hunters - Eit av Noregs beste bluesband \n\n\nLer mer
URL:https://medlem.hanen.no/arrangement/blues/
LOCATION:LID i Bergsdalen\, Dalekvam\, 5722\, Norge
GEO:60.593641;5.801007
X-APPLE-STRUCTURED-LOCATION;VALUE=URI;X-ADDRESS=LID i Bergsdalen Dalekvam 5722 Norge;X-APPLE-RADIUS=500;X-TITLE=LID i Bergsdalen:geo:5.801007,60.593641
CATEGORIES:Hordaland
ATTACH;FMTTYPE=image/jpeg:https://medlem.hanen.no/wp-content/uploads/2017/05/Bergdalstunet.jpg
ORGANIZER;CN="Bergsdalstunet":MAILTO:post@bergsdalstunet.no
END:VEVENT
END:VCALENDAR