BEGIN:VCALENDAR
VERSION:2.0
PRODID:-//HANEN - ECPv4.3.2//NONSGML v1.0//EN
CALSCALE:GREGORIAN
METHOD:PUBLISH
X-WR-CALNAME:HANEN
X-ORIGINAL-URL:https://medlem.hanen.no
X-WR-CALDESC:Events for HANEN
BEGIN:VEVENT
DTSTART;TZID=Europe/Oslo:20180322T170000
DTEND;TZID=Europe/Oslo:20180322T200000
DTSTAMP:20260420T101150
CREATED:20180205T132119Z
LAST-MODIFIED:20180205T132136Z
UID:21177-1521738000-1521748800@medlem.hanen.no
SUMMARY:Biff\, béarnaise og øl // Kurs på Vitenparken
DESCRIPTION:Lær deg hvordan du lager den perfekte biffen og piske opp en béarnaisesaus fra grunnen av.\n\nKjøkkensjefen på Vitenparken\, Hafstein Snæland\, lærer deg hvordan vurdere kvaliteten på kjøttet\, lage saus med riktig konsistens og blande sammen smaker som jubler i munnen.\n\nKurset holdes på MatLab\, vårt nye kurskjøkken på Vitenparken. Vi har forkleder og alt av utstyr\, så det eneste du trenger å gjøre er å møte opp med nysgjerrig hode og sulten mage.\n\nKurset varer i to og en halv timer.\n\nLes mer her.
URL:https://medlem.hanen.no/arrangement/biff-bearnaise-og-ol-kurs-pa-vitenparken/
LOCATION:Fredrik A. Dahls Vei\,\, Ås\, 1430\, Norge
GEO:59.6674572;10.7684186
X-APPLE-STRUCTURED-LOCATION;VALUE=URI;X-ADDRESS=Fredrik A. Dahls Vei Ås 1430 Norge;X-APPLE-RADIUS=500;X-TITLE=Fredrik A. Dahls Vei\,:geo:10.7684186,59.6674572
CATEGORIES:Akershus
ATTACH;FMTTYPE=image/jpeg:https://medlem.hanen.no/wp-content/uploads/2018/02/Biff-Vitenparken.jpg
ORGANIZER;CN="Vitenparken%2C%20Campus%20%C3%85s":MAILTO:resepsjon@vitenparken.no
END:VEVENT
END:VCALENDAR