BEGIN:VCALENDAR
VERSION:2.0
PRODID:-//HANEN - ECPv4.3.2//NONSGML v1.0//EN
CALSCALE:GREGORIAN
METHOD:PUBLISH
X-WR-CALNAME:HANEN
X-ORIGINAL-URL:https://medlem.hanen.no
X-WR-CALDESC:Events for HANEN
BEGIN:VEVENT
DTSTART;TZID=Europe/Oslo:20150813T190000
DTEND;TZID=Europe/Oslo:20150813T210000
DTSTAMP:20260420T100115
CREATED:20150628T141358Z
LAST-MODIFIED:20150628T142609Z
UID:12612-1439492400-1439499600@medlem.hanen.no
SUMMARY:Barokken - Rosendals århundre
DESCRIPTION:Foredrag av Elisabeth Aasen i Den Røde Sal på Baroniet i Rosendal 13.august 2015!\n\nLes mer
URL:https://medlem.hanen.no/arrangement/barokken-rosendals-arhundre/
LOCATION:Postboks 235\, Rosendal\, 5486 
CATEGORIES:Hordaland
ATTACH;FMTTYPE=image/jpeg:https://medlem.hanen.no/wp-content/uploads/2015/06/5610417_2770021.jpg
END:VEVENT
END:VCALENDAR