BEGIN:VCALENDAR
VERSION:2.0
PRODID:-//HANEN - ECPv4.3.2//NONSGML v1.0//EN
CALSCALE:GREGORIAN
METHOD:PUBLISH
X-WR-CALNAME:HANEN
X-ORIGINAL-URL:https://medlem.hanen.no
X-WR-CALDESC:Events for HANEN
BEGIN:VEVENT
DTSTART;TZID=Europe/Oslo:20161015T100000
DTEND;TZID=Europe/Oslo:20161015T140000
DTSTAMP:20260421T115033
CREATED:20160818T092309Z
LAST-MODIFIED:20160818T092309Z
UID:16582-1476525600-1476540000@medlem.hanen.no
SUMMARY:Bærglede - kurs med Kirsten Winge og lunsj hos Akre Matopplevelser
DESCRIPTION:På kurset vårt får du inspirasjon og teknikker til å lage deg noen ordentlig spennende og gode bærretter.\n\nDu får:\n-Kurs i å lage tyttebærketchup\, tyttebærgløgg og sild med multe og tyttebær med villmarkskokken Kirsten Winge.\n- Ta med deg det du lager på kurset hjem i søte krukker og glass.\n- 2-retters lunsj i finstua på Akre\, der deltakerne selv lager forretten.\n- Smaksprøver som hjemmebakt brød med lokal ost og bærsirup.\n- Tyttebærgløgg aperitif\, kaffe/te.\n- Oppskriftshefte\n- En inspirerende dag med Kirsten Winge\n- Kurs i flotte omgivelser med lokal historie til maten\, fortalt av Odelsjenta og driver på Akre Matopplevelser.\n\n \n\nMer informasjon og billett
URL:https://medlem.hanen.no/arrangement/baerglede-kurs-med-kirsten-winge-og-lunsj-hos-akre-matopplevelser/
LOCATION: Galåsevegen 868\,  Nybergsund\, Hedmark\, 2422\, Norge
GEO:61.25;12.3166667
X-APPLE-STRUCTURED-LOCATION;VALUE=URI;X-ADDRESS=Galåsevegen 868  Nybergsund Hedmark 2422 Norge;X-APPLE-RADIUS=500;X-TITLE=Galåsevegen 868:geo:12.3166667,61.25
CATEGORIES:Hedmark
ATTACH;FMTTYPE=image/jpeg:https://medlem.hanen.no/wp-content/uploads/2016/08/akre.jpg
ORGANIZER;CN="Akre%20Matopplevelser":MAILTO:akregaard@gmail.com
END:VEVENT
END:VCALENDAR