BEGIN:VCALENDAR
VERSION:2.0
PRODID:-//HANEN - ECPv4.3.2//NONSGML v1.0//EN
CALSCALE:GREGORIAN
METHOD:PUBLISH
X-WR-CALNAME:HANEN
X-ORIGINAL-URL:https://medlem.hanen.no
X-WR-CALDESC:Events for HANEN
BEGIN:VEVENT
DTSTART;TZID=Europe/Oslo:20240202T180000
DTEND;TZID=Europe/Oslo:20240204T130000
DTSTAMP:20260420T084043
CREATED:20231229T115605Z
LAST-MODIFIED:20231229T131019Z
UID:38084-1706896800-1707051600@medlem.hanen.no
SUMMARY:Åpningshelg med gardsmeny og Lom bryggeri
DESCRIPTION:Vinterstemning\, stillhet\, utsikt over Jotunheimen - og ikke minst: gode smaker av lokale råvarer.\n\nGarden Sve i Vågå leverer råvarene til en utvidet fem retters Gardsmeny på lørdag.\n\nØlkelner Karola har med seg Lom Bryggeri - vi smaker øl til maten og hører om historien som knyter øl til gardsmat.\nSøndag blir det en liten tur med vinterlego - fortelling.\n\nÅpningshelgen alt inkludert (to retters meny fredag\, gardsmeny med 5 retter og ølsmaking lørdag\, 2x frokost\, 1x selvsmurt niste/ termos\, vinterlego søndag): kr. 3.950\,- per person i dobbeltrom/ kr. 4.750\,- per person i romantisk sæter-suite.
URL:https://medlem.hanen.no/arrangement/apningshelg-med-gardsmeny-og-lom-bryggeri/
LOCATION:Sjodalsveien \, Tessanden\, 1549 \, Norge
CATEGORIES:Oppland
ATTACH;FMTTYPE=image/jpeg:https://medlem.hanen.no/wp-content/uploads/2023/12/Hindseter-e1703855495920.jpg
ORGANIZER;CN="Hinds%C3%A6ter":MAILTO:post@hindseter.no
END:VEVENT
END:VCALENDAR